BEGIN:VCALENDAR
VERSION:2.0
PRODID:-//The PINK Network - ECPv6.9.1//NONSGML v1.0//EN
CALSCALE:GREGORIAN
METHOD:PUBLISH
X-WR-CALNAME:The PINK Network
X-ORIGINAL-URL:https://thepinknetwork.it
X-WR-CALDESC:Eventi per The PINK Network
REFRESH-INTERVAL;VALUE=DURATION:PT1H
X-Robots-Tag:noindex
X-PUBLISHED-TTL:PT1H
BEGIN:VTIMEZONE
TZID:Europe/Rome
BEGIN:DAYLIGHT
TZOFFSETFROM:+0100
TZOFFSETTO:+0200
TZNAME:CEST
DTSTART:20210328T010000
END:DAYLIGHT
BEGIN:STANDARD
TZOFFSETFROM:+0200
TZOFFSETTO:+0100
TZNAME:CET
DTSTART:20211031T010000
END:STANDARD
END:VTIMEZONE
BEGIN:VEVENT
DTSTART;TZID=Europe/Rome:20210302T130000
DTEND;TZID=Europe/Rome:20210302T143000
DTSTAMP:20260422T062906
CREATED:20210207T164607Z
LAST-MODIFIED:20210208T091856Z
UID:4417-1614690000-1614695400@thepinknetwork.it
SUMMARY:MPN: Bella Dentro! Ecosostenibilità e lotta allo spreco di successo
DESCRIPTION:Martedì 2 marzo ore 13:00 – online\nUna zucchina troppo grande\, una mela troppo piccola\, un pomodoro con bitorzolo e un cetriolo oversize… Cosa hanno in comune?\nIl destino di finire al macero perché “bruttini” e quindi scartati dalla distribuzione organizzata.\nMa questo succedeva fino a quando qualche anno fa è nato il progetto Bella Dentro\, dalla testa un po’ matta di quei gran sognatori e imprenditori di Camilla e Luca.\nTelefonate\, contatti con i produttori\, poi un’apecar\, una vita da girovaghi… E poi ancora i primi premi e riconoscimenti\, l’arricchimento dell’offerta\, i nuovi progetti\, il negozio…\nUna storia pazzesca di lotta allo spreco e di comunicazione al servizio della sostenibilità che vale la pena di essere raccontata e di essere presa come esempio. \nCondivideremo il link alla call su Zoom sull’evento di Facebook o ve lo invieremo quando riceveremo la vostra email di conferma. \n\nRicorda di iscriverti e quello di un’amica contattandoci a info@thepinknetwork.it o compila il form sottostante.\n\n\n  \n\n\n\n\n\n\n\n\n\n\n Il tuo nome (richiesto)\n \n \n La tua email (richiesto)\n \n \n Titolo incontro (richiesto)\n \n \n Scrivi se vieni con qualcuno\n \n \n\n Δ ×
URL:https://thepinknetwork.it/event/mpn-bella-dentro-ecosostenibilita-e-lotta-allo-spreco-di-successo/
LOCATION:Online\, Italia
CATEGORIES:Altomilanese,Event,Monza,Segrate
ATTACH;FMTTYPE=image/png:https://thepinknetwork.it/wp-content/uploads/2021/02/Bella-dentro.png
END:VEVENT
BEGIN:VEVENT
DTSTART;TZID=Europe/Rome:20210309T130000
DTEND;TZID=Europe/Rome:20210309T143000
DTSTAMP:20260422T062906
CREATED:20210207T170406Z
LAST-MODIFIED:20210208T104027Z
UID:4419-1615294800-1615300200@thepinknetwork.it
SUMMARY:MPN: Il contratto\, gli elementi giusti per tutelarsi
DESCRIPTION:Martedì 9 marzo ore 13:00 – online\nEccoci al secondo incontro de “I fondamentali di Barbara”\, le basi da cui non si può prescindere ma che troppo spesso sottovalutiamo. \nQuesta volta parliamo di contratto\nOgnuno di noi ha a che fare ogni giorno con un contratto\, come committente o come venditore o prestatore di servizi. \nPer mettersi quanto più possibile al riparo dalle brutte sorprese\, è importante conoscere tutti gli elementi che questo documento dovrebbe includere. \nScopriamo quali sono insieme alla super efficiente Barbara Busto di Delegando – Più valore al tuo tempo. \nCondivideremo il link alla call su Zoom sull’evento di Facebook o ve lo invieremo quando riceveremo la vostra email di conferma. \n\nRicorda di iscriverti e quello di un’amica contattandoci a monza@thepinknetwork.it o compila il form sottostante.\n\n\n  \n\n\n\n\n\n\n\n\n\n\n Il tuo nome (richiesto)\n \n \n La tua email (richiesto)\n \n \n Titolo incontro (richiesto)\n \n \n Scrivi se vieni con qualcuno\n \n \n\n Δ ×
URL:https://thepinknetwork.it/event/il-contratto/
LOCATION:Online\, Italia
CATEGORIES:Altomilanese,Event,Monza,Segrate
ATTACH;FMTTYPE=image/png:https://thepinknetwork.it/wp-content/uploads/2021/02/contratto.png
END:VEVENT
BEGIN:VEVENT
DTSTART;TZID=Europe/Rome:20210316T130000
DTEND;TZID=Europe/Rome:20210316T143000
DTSTAMP:20260422T062906
CREATED:20210224T165840Z
LAST-MODIFIED:20210224T165840Z
UID:4430-1615899600-1615905000@thepinknetwork.it
SUMMARY:MPN - Leadership e... genitori!
DESCRIPTION:Martedì 16 marzo ore 13:00 – online\nQUESTA CASA (NON) E’ UN’AZIENDA! \nLo sapevate che i principi della leadership possono essere applicati anche alla genitorialità? \nCi racconta come Emilia Pizzuto di Mamme equilibriste in questo incontro che è partito da alcune domande che Emilia si è posta: \n\nCosa vuol dire educare al bene?\nChe lavoro sto facendo come genitore?\nSono un bravo genitore?\n\nI parallelismi tra azienda e genitorialità sono davvero tanti e molto\, molto interessanti… \nVi aspettiamo per scoprirli! \nCondivideremo il link alla call su Zoom sull’evento di Facebook o ve lo invieremo quando riceveremo la vostra email di conferma. \n\nRicorda di iscriverti e quello di un’amica contattandoci a monza@thepinknetwork.it o compila il form sottostante.\n\n\n  \n\n\n\n\n\n\n\n\n\n\n Il tuo nome (richiesto)\n \n \n La tua email (richiesto)\n \n \n Titolo incontro (richiesto)\n \n \n Scrivi se vieni con qualcuno\n \n \n\n Δ ×
URL:https://thepinknetwork.it/event/leadership-e-genitori/
LOCATION:Online\, Italia
CATEGORIES:Altomilanese,Event,Monza,Segrate
ATTACH;FMTTYPE=image/png:https://thepinknetwork.it/wp-content/uploads/2021/02/leadership-genitoriale-1.png
END:VEVENT
BEGIN:VEVENT
DTSTART;TZID=Europe/Rome:20210325T130000
DTEND;TZID=Europe/Rome:20210325T143000
DTSTAMP:20260422T062906
CREATED:20210318T160427Z
LAST-MODIFIED:20210318T160751Z
UID:4435-1616677200-1616682600@thepinknetwork.it
SUMMARY:MPN - Cammin cammino... Viaggiando a piedi nelle isole d'Italia
DESCRIPTION:Giovedì 25 marzo ore 13:00 – online\nL’inverno lo abbiamo lasciato alle spalle\, iniziamo a fantasticare di evadere finalmente e quindi possiamo a tutti gli effetti cominciare a parlare di VACANZE!\nSogni di passare le vacanze su un’isoletta poco turistica dove puoi fare a meno dell’auto? Fare lunghe camminate in una natura intatta e vivere esperienze semplici ma autentiche? Tutto questo lo puoi fare in Italia!\nE ce lo faremo raccontare per bene dalla nostra Travel Designer Daniela Grasso che ci darà ispirazioni di viaggio su mete italiane ancora poco conosciute.\nCondivideremo il link alla call su Zoom sull’evento di Facebook o ve lo invieremo quando riceveremo la vostra email di conferma. \n\nRicorda di iscriverti e quello di un’amica contattandoci a monza@thepinknetwork.it o compila il form sottostante.\n\n\n  \n\n\n\n\n\n\n\n\n\n\n Il tuo nome (richiesto)\n \n \n La tua email (richiesto)\n \n \n Titolo incontro (richiesto)\n \n \n Scrivi se vieni con qualcuno\n \n \n\n Δ ×
URL:https://thepinknetwork.it/event/viaggiando-a-piedi-nelle-isole-di-italia/
LOCATION:Online\, Italia
CATEGORIES:Altomilanese,Event,Monza,Segrate
ATTACH;FMTTYPE=image/jpeg:https://thepinknetwork.it/wp-content/uploads/2021/03/viaggi-Daniela-Grasso.jpg
END:VEVENT
BEGIN:VEVENT
DTSTART;TZID=Europe/Rome:20210330T130000
DTEND;TZID=Europe/Rome:20210330T143000
DTSTAMP:20260422T062906
CREATED:20210214T121554Z
LAST-MODIFIED:20210214T121554Z
UID:4426-1617109200-1617114600@thepinknetwork.it
SUMMARY:MPN - Work-life balance: Rivediamo e costruiamo i nostri obiettivi
DESCRIPTION:Martedì 30 marzo ore 13:00 – online\nSiamo a marzo ed è tempo di primi bilanci. \nPartiamo dal presupposto che saper formulare bene un obiettivo è fondamentale per trasformare i buoni propositi in risultati chiari e soddisfacenti. Nella vita e nel lavoro\, infatti\, gli obiettivi rappresentano uno strumento utile per arrivare dove si desidera e costruire la propria vita felice. \nEsploreremo il mondo degli obiettivi grazie al metodo ikigai per imparare a muoverci in modo più concreto verso la nostra meta con la giusta mappa. \nFederica Cantrigliani – creative ikigai designer è una psicologa clinica con un master in brand communication\, life desiger e coach umanista\, crede nel potenziale umano\, nel talento e in una vita professionale e personale ricca di significato. \nCondivideremo il link alla call su Zoom sull’evento di Facebook o ve lo invieremo quando riceveremo la vostra email di conferma. \n\nRicorda di iscriverti e quello di un’amica contattandoci a monza@thepinknetwork.it o compila il form sottostante.\n\n\n  \n\n\n\n\n\n\n\n\n\n\n Il tuo nome (richiesto)\n \n \n La tua email (richiesto)\n \n \n Titolo incontro (richiesto)\n \n \n Scrivi se vieni con qualcuno\n \n \n\n Δ ×
URL:https://thepinknetwork.it/event/mpn-work-life-balance-rivediamo-e-costruiamo-i-nostri-obiettivi/
LOCATION:Online\, Italia
CATEGORIES:Altomilanese,Event,Monza,Segrate
ATTACH;FMTTYPE=image/png:https://thepinknetwork.it/wp-content/uploads/2021/02/obiettivi.png
END:VEVENT
END:VCALENDAR