BEGIN:VCALENDAR
VERSION:2.0
PRODID:-//The PINK Network - ECPv6.9.1//NONSGML v1.0//EN
CALSCALE:GREGORIAN
METHOD:PUBLISH
X-WR-CALNAME:The PINK Network
X-ORIGINAL-URL:https://thepinknetwork.it
X-WR-CALDESC:Eventi per The PINK Network
REFRESH-INTERVAL;VALUE=DURATION:PT1H
X-Robots-Tag:noindex
X-PUBLISHED-TTL:PT1H
BEGIN:VTIMEZONE
TZID:Europe/Rome
BEGIN:DAYLIGHT
TZOFFSETFROM:+0100
TZOFFSETTO:+0200
TZNAME:CEST
DTSTART:20210328T010000
END:DAYLIGHT
BEGIN:STANDARD
TZOFFSETFROM:+0200
TZOFFSETTO:+0100
TZNAME:CET
DTSTART:20211031T010000
END:STANDARD
END:VTIMEZONE
BEGIN:VEVENT
DTSTART;TZID=Europe/Rome:20210126T130000
DTEND;TZID=Europe/Rome:20210126T143000
DTSTAMP:20260422T090235
CREATED:20210125T174852Z
LAST-MODIFIED:20210126T085949Z
UID:4391-1611666000-1611671400@thepinknetwork.it
SUMMARY:MPN: Mangia per piacere! L'anti-dieta e i buoni propositi
DESCRIPTION:Martedì 26 gennaio ore 13:00 – online\nSuccede anche a voi di iniziare l’anno\, superate le mangiate delle feste\, e giurare a voi stesse che il chilo in più quest’anno lo affronterete (ma magari a quel pezzo di cioccolato non rinuncio!)?\nSuccede anche a voi che nel momento in cui siete tutte concentrate su quel progetto che “mannaggiachespettacolo” o vi godete una passeggiata insieme a un’amica o fate il corso che vi eravate messe in testa di seguire… vi dimenticate quasi che è ora di pranzo?\nTra queste due cose esiste una relazione e a parlarcene sarà la biologa nutrizionista Claudia Boccato\, specializzata in nutrizione sportiva.\nDimenticate i sensi di colpa\, sfoderate un po’ di motivazione e soprattutto preparate le domande! \nCondivideremo il link alla call su Zoom sull’evento di Facebook o ve lo invieremo quando riceveremo la vostra email di conferma. \n\nRicorda di iscriverti e quello di un’amica contattandoci a monza@thepinknetwork.it o compila il form sottostante.\n\n\n  \n\n\n\n\n\n\n\n\n\n\n Il tuo nome (richiesto)\n \n \n La tua email (richiesto)\n \n \n Titolo incontro (richiesto)\n \n \n Scrivi se vieni con qualcuno\n \n \n\n Δ ×
URL:https://thepinknetwork.it/event/mpn-mangia-per-piacere-lanti-dieta-e-i-buoni-propositi/
LOCATION:Online\, Italia
CATEGORIES:Event,Monza
ATTACH;FMTTYPE=image/png:https://thepinknetwork.it/wp-content/uploads/2021/01/Mangia-per-piacere.png
END:VEVENT
END:VCALENDAR