BEGIN:VCALENDAR
VERSION:2.0
PRODID:-//The PINK Network - ECPv6.9.1//NONSGML v1.0//EN
CALSCALE:GREGORIAN
METHOD:PUBLISH
X-ORIGINAL-URL:https://thepinknetwork.it
X-WR-CALDESC:Eventi per The PINK Network
REFRESH-INTERVAL;VALUE=DURATION:PT1H
X-Robots-Tag:noindex
X-PUBLISHED-TTL:PT1H
BEGIN:VTIMEZONE
TZID:Europe/Rome
BEGIN:DAYLIGHT
TZOFFSETFROM:+0100
TZOFFSETTO:+0200
TZNAME:CEST
DTSTART:20190331T010000
END:DAYLIGHT
BEGIN:STANDARD
TZOFFSETFROM:+0200
TZOFFSETTO:+0100
TZNAME:CET
DTSTART:20191027T010000
END:STANDARD
END:VTIMEZONE
BEGIN:VEVENT
DTSTART;TZID=Europe/Rome:20191002T100000
DTEND;TZID=Europe/Rome:20191002T130000
DTSTAMP:20260423T093802
CREATED:20200219T153348Z
LAST-MODIFIED:20200219T170556Z
UID:3928-1570010400-1570021200@thepinknetwork.it
SUMMARY:Segrate: Personal You. Esercizi pratici per un personal branding
DESCRIPTION:02 ottobre 2019 – h 10:00\nIntroduzione al branding e al personal branding per artigiani e professionisti.\nScopriamolo insieme a Federica Cantrigliani cos’è il Personal Branding\, ma soprattutto come comunicare al meglio chi siamo e cosa facciamo.\nIn 1 ora saranno condensati temi importanti ma utili per iniziare a capire come impostare il nostro personal branding e\, attraverso esercizi pratici (e non fuffologia ). \nProgramma del workshop\n-Cos’è il personal branding\, sfatiamo i miti e facciamo chiarezza.\n-Potenzialità valori e vocazione\, come iniziare a lavorare sulla propria identità professionale.\n-Trova il tuo perché\, la tua unicità alla base della tua comunicazione.\n-Strumenti mezzi e strategie per una comunicazione efficace. \nVi porterete a casa gli esercizi fatti dal vivo in modo da avere la possibilità di rifarli con tranquillità\, rifletterci sopra\, cambiare il vostro punto di vista. \nDove siamo\nSala Mattei\nCentro Civico Giuseppe Verdi\nVia XXV Aprile \n– – – – – – – –– – – –– – – –– – – –– – – –– – – –– – – –– – – –– – – –– – – \nCome sempre lo scopo della riunione è la collaborazione e la condivisione. \nSe hai un problema esponilo al gruppo\, potrai ricevere dei consigli.\nHai un progetto in testa e ti senti arenata\, forse parlarne ti aiuterà a schiarirti le idee.\nCerchi una partner per portare avanti la tua attività\, tra noi ci potrebbe essere. \nRicorda di prenotare il tuo posto e quello di un’amica contattandoci a segrate@thepinknetwork.it o compila il form sottostante.\n\n\n  \n\n\n\n\n\n\n\n\n\n\n Il tuo nome (richiesto)\n \n \n La tua email (richiesto)\n \n \n Titolo incontro (richiesto)\n \n \n Scrivi se vieni con qualcuno\n \n \n\n Δ ×
URL:https://thepinknetwork.it/event/segrate-personal-you-esercizi-pratici-per-un-personal-branding/
LOCATION:Sala Mattei – Centro Civico Giuseppe Verdi \, Via XXV Aprile\, Segrate\, mi\, 20090\, Italia
CATEGORIES:Segrate,Workshop
ATTACH;FMTTYPE=image/jpeg:https://thepinknetwork.it/wp-content/uploads/2019/09/70281790_2403233773097393_1349374318043201536_n.jpg
END:VEVENT
BEGIN:VEVENT
DTSTART;TZID=Europe/Rome:20191002T183000
DTEND;TZID=Europe/Rome:20191002T203000
DTSTAMP:20260423T093802
CREATED:20200220T145010Z
LAST-MODIFIED:20200220T145010Z
UID:3970-1570041000-1570048200@thepinknetwork.it
SUMMARY:MPN care - Prevenire è vivere
DESCRIPTION:02 ottobre 2019 – h 18:30\nContinua il ciclo di incontri in collaborazione con LILT per parlare di sana alimentazione e prevenzione. \nInsieme alla Dottoressa Anna Colabianchi\, biologa nutrizionista di LILT Milano\, parleremo di prevenzione delle malattie cardiovascolari attraverso uno stile di vita salutare. \nVi aspettiamo al Centro Civico San Carlo e San Giuseppe\, in Via Silva 26. \nIngresso gratuito.\nIscrizioni entro il 27 settembre\, inviando un’email a prevenzione@legatumori.mi.it\nDove siamo\nCentro Civico San Carlo – San Giuseppe\,\nVia Silva 26\, 20900 Monza
URL:https://thepinknetwork.it/event/mpn-care-prevenire-e-vivere/
LOCATION:Centro Civico San Carlo – San Giuseppe\, Via Silva 26\, Monza\, 20900\, Italia
CATEGORIES:Event,Monza
ATTACH;FMTTYPE=image/jpeg:https://thepinknetwork.it/wp-content/uploads/2019/09/70031290_1022745514783959_7854427176341340160_o.jpg
END:VEVENT
BEGIN:VEVENT
DTSTART;TZID=Europe/Rome:20191009T133000
DTEND;TZID=Europe/Rome:20191009T153000
DTSTAMP:20260423T093802
CREATED:20200220T144513Z
LAST-MODIFIED:20200220T144513Z
UID:3968-1570627800-1570635000@thepinknetwork.it
SUMMARY:MPN work: Time tracking\, perché tracciare il tempo è importante
DESCRIPTION:09 ottobre 2019 – h 13:30\nCome pensiamo di utilizzare il nostro tempo e come in realtà lo utilizziamo sono spesso due cose diverse.\nTracciare il tempo (il cosiddetto time tracking) ci permette di far coincidere questi due aspetti\, così che possiamo essere veramente consapevoli del modo in cui impieghiamo le nostre giornate.\nMa il time tracking è molto\, molto di più…\nCi racconterà tutto Barbara Busto \nDove siamo\nCentro Civico San Carlo – San Giuseppe\,\nVia Silva 26\, 20900 Monza \n– – – – – – – –– – – –– – – –– – – –– – – –– – – –– – – –– – – –– – – –– – – \nCome sempre lo scopo della riunione è la collaborazione e la condivisione. \nSe hai un problema esponilo al gruppo\, potrai ricevere dei consigli.\nHai un progetto in testa e ti senti arenata\, forse parlarne ti aiuterà a schiarirti le idee.\nCerchi una partner per portare avanti la tua attività\, tra noi ci potrebbe essere. \nRicorda di prenotare il tuo posto e quello di un’amica contattandoci a monza@thepinknetwork.it o compila il form sottostante.\n\n\n  \n\n\n\n\n\n\n\n\n\n\n Il tuo nome (richiesto)\n \n \n La tua email (richiesto)\n \n \n Titolo incontro (richiesto)\n \n \n Scrivi se vieni con qualcuno\n \n \n\n Δ ×
URL:https://thepinknetwork.it/event/mpn-work-time-tracking-perche-tracciare-il-tempo-e-importante/
LOCATION:Centro Civico San Carlo – San Giuseppe\, Via Silva 26\, Monza\, 20900\, Italia
CATEGORIES:Monza,Workshop
ATTACH;FMTTYPE=image/jpeg:https://thepinknetwork.it/wp-content/uploads/2019/09/WhatsApp-Image-2019-09-11-at-12.35.32.jpeg
END:VEVENT
BEGIN:VEVENT
DTSTART;TZID=Europe/Rome:20191017T100000
DTEND;TZID=Europe/Rome:20191017T130000
DTSTAMP:20260423T093802
CREATED:20200219T152702Z
LAST-MODIFIED:20200219T170556Z
UID:3925-1571306400-1571317200@thepinknetwork.it
SUMMARY:Segrate: Come usare LinkedIn per creare una rete professionale
DESCRIPTION:17 ottobre 2019 – h 10:00\nImparare a usare Linkedin è importante per entrare a far parte di una rete di professionisti: è il social network dedicato al business che incentiva lo sviluppo di contatti professionali e fornisce tool utili per la ricerca del lavoro.\nUn ottimo strumento da tenere in considerazione per promuovere imprese e attività professionali. \nInsieme a Erika Mattavelli vedremo alcune linee guida per impostare un profilo efficace\, imparando ad interagire con i nostri collegamenti. \nDove siamo\nSala Mattei\nCentro Civico Giuseppe Verdi\nVia XXV Aprile \n– – – – – – – –– – – –– – – –– – – –– – – –– – – –– – – –– – – –– – – –– – – \nCome sempre lo scopo della riunione è la collaborazione e la condivisione. \nSe hai un problema esponilo al gruppo\, potrai ricevere dei consigli.\nHai un progetto in testa e ti senti arenata\, forse parlarne ti aiuterà a schiarirti le idee.\nCerchi una partner per portare avanti la tua attività\, tra noi ci potrebbe essere. \nRicorda di prenotare il tuo posto e quello di un’amica contattandoci a segrate@thepinknetwork.it o compila il form sottostante.\n\n\n  \n\n\n\n\n\n\n\n\n\n\n Il tuo nome (richiesto)\n \n \n La tua email (richiesto)\n \n \n Titolo incontro (richiesto)\n \n \n Scrivi se vieni con qualcuno\n \n \n\n Δ ×
URL:https://thepinknetwork.it/event/segrate-come-usare-linkedin-per-creare-una-rete-professionale/
LOCATION:Sala Mattei – Centro Civico Giuseppe Verdi \, Via XXV Aprile\, Segrate\, mi\, 20090\, Italia
CATEGORIES:Segrate,Workshop
ATTACH;FMTTYPE=image/jpeg:https://thepinknetwork.it/wp-content/uploads/2019/09/69771620_1021916254866885_3019697982904729600_n.jpg
END:VEVENT
BEGIN:VEVENT
DTSTART;TZID=Europe/Rome:20191021T133000
DTEND;TZID=Europe/Rome:20191021T153000
DTSTAMP:20260423T093802
CREATED:20200219T170135Z
LAST-MODIFIED:20200220T142846Z
UID:3951-1571664600-1571671800@thepinknetwork.it
SUMMARY:MPN work: Insta-stories come e perché
DESCRIPTION:21 ottobre 2019 – h 13:30\nL’individuazione di contenuti in grado di attirare e coinvolgere il proprio target di riferimento e l’opportuna pianificazione di questi costituiscono il calendario editoriale che è alla base di tutte le strategie social. \nCome creiamo la nostra strategia Instagram stories?\n➡ Le Stories\, come si fanno e perché funzionano? \nRispondere a queste domande sarà il punto di partenza dell’incontro tenuto da Erika Mattavelli.\nCercheremo di estrarre una ricetta “alla portata di tutti” che aiuti ad accrescere la propria visibilità. Hashtag\, Geotag\, GIF e Tag arricchiranno le Instagram stories\, che siano video\, foto o contenuti grafici.\nCome sempre\, tool\, app e strumenti gratuiti ci verranno in soccorso! \nDove siamo\nCentro Civico San Carlo – San Giuseppe\,\nVia Silva 26\, 20900 Monza \n– – – – – – – –– – – –– – – –– – – –– – – –– – – –– – – –– – – –– – – –– – – \nCome sempre lo scopo della riunione è la collaborazione e la condivisione. \nSe hai un problema esponilo al gruppo\, potrai ricevere dei consigli.\nHai un progetto in testa e ti senti arenata\, forse parlarne ti aiuterà a schiarirti le idee.\nCerchi una partner per portare avanti la tua attività\, tra noi ci potrebbe essere. \nRicorda di prenotare il tuo posto e quello di un’amica contattandoci a monza@thepinknetwork.it o compila il form sottostante.\n\n\n  \n\n\n\n\n\n\n\n\n\n\n Il tuo nome (richiesto)\n \n \n La tua email (richiesto)\n \n \n Titolo incontro (richiesto)\n \n \n Scrivi se vieni con qualcuno\n \n \n\n Δ ×
URL:https://thepinknetwork.it/event/mpn-work-insta-stories-come-e-perche/
LOCATION:Centro Civico San Carlo – San Giuseppe\, Via Silva 26\, Monza\, 20900\, Italia
CATEGORIES:Monza,Workshop
ATTACH;FMTTYPE=image/jpeg:https://thepinknetwork.it/wp-content/uploads/2019/09/70406341_1027417924316718_5005997972211630080_o.jpg
END:VEVENT
BEGIN:VEVENT
DTSTART;TZID=Europe/Rome:20191030T100000
DTEND;TZID=Europe/Rome:20191030T130000
DTSTAMP:20260423T093802
CREATED:20200219T151428Z
LAST-MODIFIED:20200219T170556Z
UID:3921-1572429600-1572440400@thepinknetwork.it
SUMMARY:Segrate: una foto profilo che potenzia il tuo personal branding
DESCRIPTION:30 ottobre 2019 – h 10:00\nLa tua immagine conta: non sottovalutare il potere dell’immagine online\nSpesso ci mettiamo online puntando sui contenuti e sottovalutando che la nostra immagine parla di noi prima ancora delle nostre parole. Siamo sicure di voler perdere un cliente? Perché non ci siamo presentate efficacemente. \nCon Sharon Sala \nDove siamo\nSala Mattei\nCentro Civico Giuseppe Verdi\nVia XXV Aprile \n– – – – – – – –– – – –– – – –– – – –– – – –– – – –– – – –– – – –– – – –– – – \nCome sempre lo scopo della riunione è la collaborazione e la condivisione. \nSe hai un problema esponilo al gruppo\, potrai ricevere dei consigli.\nHai un progetto in testa e ti senti arenata\, forse parlarne ti aiuterà a schiarirti le idee.\nCerchi una partner per portare avanti la tua attività\, tra noi ci potrebbe essere. \nRicorda di prenotare il tuo posto e quello di un’amica contattandoci a segrate@thepinknetwork.it o compila il form sottostante.\n\n\n  \n\n\n\n\n\n\n\n\n\n\n Il tuo nome (richiesto)\n \n \n La tua email (richiesto)\n \n \n Titolo incontro (richiesto)\n \n \n Scrivi se vieni con qualcuno\n \n \n\n Δ ×
URL:https://thepinknetwork.it/event/segrate-una-foto-profilo-che-potenzia-il-tuo-personal-branding/
LOCATION:Sala Mattei – Centro Civico Giuseppe Verdi \, Via XXV Aprile\, Segrate\, mi\, 20090\, Italia
CATEGORIES:Segrate,Workshop
ATTACH;FMTTYPE=image/jpeg:https://thepinknetwork.it/wp-content/uploads/2019/09/69660583_2403229663097804_2021849502335369216_n.jpg
END:VEVENT
END:VCALENDAR