BEGIN:VCALENDAR
VERSION:2.0
PRODID:-//The PINK Network - ECPv6.9.1//NONSGML v1.0//EN
CALSCALE:GREGORIAN
METHOD:PUBLISH
X-WR-CALNAME:The PINK Network
X-ORIGINAL-URL:https://thepinknetwork.it
X-WR-CALDESC:Eventi per The PINK Network
REFRESH-INTERVAL;VALUE=DURATION:PT1H
X-Robots-Tag:noindex
X-PUBLISHED-TTL:PT1H
BEGIN:VTIMEZONE
TZID:Europe/Rome
BEGIN:DAYLIGHT
TZOFFSETFROM:+0100
TZOFFSETTO:+0200
TZNAME:CEST
DTSTART:20190331T010000
END:DAYLIGHT
BEGIN:STANDARD
TZOFFSETFROM:+0200
TZOFFSETTO:+0100
TZNAME:CET
DTSTART:20191027T010000
END:STANDARD
END:VTIMEZONE
BEGIN:VEVENT
DTSTART;TZID=Europe/Rome:20190601T100000
DTEND;TZID=Europe/Rome:20190601T173000
DTSTAMP:20260423T175732
CREATED:20200225T094036Z
LAST-MODIFIED:20200225T094036Z
UID:4076-1559383200-1559410200@thepinknetwork.it
SUMMARY:MPN culture - Corso di Digital PR
DESCRIPTION:1 giungo 2019 – h 10:00-17:30\nNell’ambito del progetto Monza PINK network – culture\, un corso gratuito a cura di Irene Marone\, docente di Marketing per sviluppare tecniche e strategie per trasformare i social in opportunità di crescita professionale e di supporto al proprio business. \nPuoi trovare il programma completo a questo link: http://bit.ly/2BLmhLS \nDove\nCentro Civico San Fruttuoso – Sala Polifunzionale\nVia Tazzoli 29\, Monza \n📣 ISCRIZIONI http://bit.ly/2EqrHxz \nInfo: cittadini.mls@csvlombardia.it\nTel. 039-2848308
URL:https://thepinknetwork.it/event/mpn-culture-corso-di-digital-pr/
LOCATION:Centro Civico San Fruttuoso\, Via Tazzoli 29\, Monza\, 20900\, Italia
CATEGORIES:Event,Monza
ATTACH;FMTTYPE=image/jpeg:https://thepinknetwork.it/wp-content/uploads/2019/04/52440806_885128951878950_4677506293454340096_o.jpg
END:VEVENT
BEGIN:VEVENT
DTSTART;TZID=Europe/Rome:20190602T090000
DTEND;TZID=Europe/Rome:20190602T183000
DTSTAMP:20260423T175732
CREATED:20200214T103004Z
LAST-MODIFIED:20200219T152527Z
UID:3871-1559466000-1559500200@thepinknetwork.it
SUMMARY:2 giugno: The PINK market - Centroparco
DESCRIPTION:Dalle 9:30 alle 18:30\nSiamo giunti alla 6° edizione del market.\nEvento organizzato da un gruppo di donne che incontrandosi durante le riunioni di the PINK network\, hanno deciso di collaborare e creare nuove sinergie. \nL’idea è non solo di mostrare prodotti creativi e di qualità\, ma di dare spazio anche alle eccellenze territoriali.\nNon chiamatelo mercatino\, ma un market vero e proprio\, dove l’artigianalità\, la creatività\, il pezzo quasi unico sono gli elementi fondamentali. \nQuesta edizione primaverile ci vede il  2 giugno al Centroparco via San Rocco – Segrate \nDalle 09:30 alle 18:30. \nVieni a fare sarà dello shopping “non banale”. \nEspositrici: \n\nI cuori di Lali – Bijoux argento\nAerre – Bijoux tessuti\nPatricia Gonzalez – Bijoux argento\nLe gioie di Laur’ART – Bijoux Shibori\nLatitud.0 – Bijoux etnici\nMade by flove – Lettering\nCecilia Brancaccio – Pasticceria\nAdriana Beretta – Ceramica Raku\nBarbara Sala – Cucito creativo\nDaniela Daledo – Porcellane dipinte\nGomitolo matto – Lavori all’uncinetto+laboratorio\nMatrimonio 5 sensi – Oggetti decorati con silhouette\nUsborne – Libri e laboratori\nFreschezza – Cosmetici\nLamartadress – Abiti per bambini e magliette\nAmanò – Bijoux di carta\nRita Sonigon – viaggi su misura\nChiara Rosignoli – Suisscare\nDebora Cordeschi – Massaggi\nFederica Cantrigliani e Silvia Servadei – workshop
URL:https://thepinknetwork.it/event/2-giugno-the-pink-market-centroparco/
LOCATION:Segrate – Centro Parco\, Via S. Rocco\, Segrate\, Italia
CATEGORIES:The PINK market
ATTACH;FMTTYPE=image/jpeg:https://thepinknetwork.it/wp-content/uploads/2020/02/thepinkmarket_2giugno-e1581676193856.jpg
END:VEVENT
BEGIN:VEVENT
DTSTART;TZID=Europe/Rome:20190602T090000
DTEND;TZID=Europe/Rome:20190602T183000
DTSTAMP:20260423T175732
CREATED:20200214T110248Z
LAST-MODIFIED:20200219T152522Z
UID:3875-1559466000-1559500200@thepinknetwork.it
SUMMARY:4 maggio: The PINK market - Centroparco
DESCRIPTION:Dalle 9:30 alle 18:30\nSiamo giunti alla 6° edizione del market.\nEvento organizzato da un gruppo di donne che incontrandosi durante le riunioni di the PINK network\, hanno deciso di collaborare e creare nuove sinergie. \nL’idea è non solo di mostrare prodotti creativi e di qualità\, ma di dare spazio anche alle eccellenze territoriali.\nNon chiamatelo mercatino\, ma un market vero e proprio\, dove l’artigianalità\, la creatività\, il pezzo quasi unico sono gli elementi fondamentali. \nQuesta edizione primaverile ci vede il  4 maggio al Centroparco di Segrate \nDalle 09:30 alle 18:30. \nVieni a fare sarà dello shopping “non banale”. \nEspositrici: \n\nFreschezza – Cosmetici\nI cuori di Lali -Bijoux argento\nLa poltrona verde – Bijoux e accessori\nAerre – Bijoux tessuti\nPatricia Gonzalez – Bijoux argento\nLatitud.0 – Bijoux etnici\nMOM Design – Grafica\nCecilia Brancaccio – Pasticceria\nDaniela Daledo – Porcellane dipinte\nUsborne – Libri e laboratori\nPaola Frontini – Abbigliamento e bijoux lego\nQuantum es – Benessere e salute
URL:https://thepinknetwork.it/event/4-maggio-the-pink-market-centroparco/
LOCATION:Segrate – Centro Parco\, Via S. Rocco\, Segrate\, Italia
CATEGORIES:The PINK market
ATTACH;FMTTYPE=image/jpeg:https://thepinknetwork.it/wp-content/uploads/2019/05/thepinkmarket_4maggio.jpg
END:VEVENT
BEGIN:VEVENT
DTSTART;TZID=Europe/Rome:20190619T110000
DTEND;TZID=Europe/Rome:20190619T130000
DTSTAMP:20260423T175732
CREATED:20200220T135850Z
LAST-MODIFIED:20200220T135941Z
UID:3958-1560942000-1560949200@thepinknetwork.it
SUMMARY:Altomilanese - Un'alternativa al lavoro usuale
DESCRIPTION:19 giugno – h 11:00\nUn nuovo modello di espressione lavorativa che permetta di esprimersi a tutto tondo\, rispettando il proprio “essere donna”. \ncon Elena Depaoli \nDove siamo\nProgetto Creativo Corsi\nvia Brodolini 6\,\n20010 Pogliano Milanese \n– – – – – – – –– – – –– – – –– – – –– – – –– – – –– – – –– – – –– – – –– – – \nCome sempre lo scopo della riunione è la collaborazione e la condivisione. \nSe hai un problema esponilo al gruppo\, potrai ricevere dei consigli.\nHai un progetto in testa e ti senti arenata\, forse parlarne ti aiuterà a schiarirti le idee.\nCerchi una partner per portare avanti la tua attività\, tra noi ci potrebbe essere. \nRicorda di prenotare il tuo posto e quello di un’amica contattandoci a info@thepinknetwork.it o compila il form sottostante.\n\n\n  \n\n\n\n\n\n\n\n\n\n\n Il tuo nome (richiesto)\n \n \n La tua email (richiesto)\n \n \n Titolo incontro (richiesto)\n \n \n Scrivi se vieni con qualcuno\n \n \n\n Δ ×
URL:https://thepinknetwork.it/event/altomilanese-unalternativa-al-lavoro-usuale/
LOCATION:Progetto Creativo Corsi\, via Brodolini 6\, Pogliano Milanese\, 20010\, Italia
CATEGORIES:Altomilanese,Workshop
ATTACH;FMTTYPE=image/jpeg:https://thepinknetwork.it/wp-content/uploads/2019/04/53236080_892809874444191_1218072224297123840_n.jpg
END:VEVENT
BEGIN:VEVENT
DTSTART;TZID=Europe/Rome:20190626T133000
DTEND;TZID=Europe/Rome:20190626T153000
DTSTAMP:20260423T175732
CREATED:20200219T161420Z
LAST-MODIFIED:20200219T170556Z
UID:3939-1561555800-1561563000@thepinknetwork.it
SUMMARY:Segrate - Time tracking: perché tracciare il tempo è così importante?
DESCRIPTION:26 giugno 2019 – h 13:30\nCome pensiamo di utilizzare il nostro tempo e come in realtà lo utilizziamo sono spesso due cose diverse.\nTracciare il tempo (il cosiddetto time tracking) ci permette di far coincidere questi due aspetti\, così che possiamo essere veramente consapevoli del modo in cui impieghiamo le nostre giornate.\nMa il time tracking è molto\, molto di più… \ncon Barbara Busto \nDove siamo\nSpazio Cascina Ovi\nVia Olgia 13\n20090 Segrate \n– – – – – – – –– – – –– – – –– – – –– – – –– – – –– – – –– – – –– – – –– – – \nCome sempre lo scopo della riunione è la collaborazione e la condivisione. \nSe hai un problema esponilo al gruppo\, potrai ricevere dei consigli.\nHai un progetto in testa e ti senti arenata\, forse parlarne ti aiuterà a schiarirti le idee.\nCerchi una partner per portare avanti la tua attività\, tra noi ci potrebbe essere. \nRicorda di prenotare il tuo posto e quello di un’amica contattandoci a segrate@thepinknetwork.it o compila il form sottostante.\n\n\n  \n\n\n\n\n\n\n\n\n\n\n Il tuo nome (richiesto)\n \n \n La tua email (richiesto)\n \n \n Titolo incontro (richiesto)\n \n \n Scrivi se vieni con qualcuno\n \n \n\n Δ ×
URL:https://thepinknetwork.it/event/segrate-time-tracking-perche-tracciare-il-tempo-e-cosi-importante/
LOCATION:Spazio Cascina Ovi\, Via Olgia 13\, Segrate\, 20090\, Italia
CATEGORIES:Segrate,Workshop
ATTACH;FMTTYPE=image/jpeg:https://thepinknetwork.it/wp-content/uploads/2019/06/thePINKriunione.jpg
END:VEVENT
END:VCALENDAR