BEGIN:VCALENDAR
VERSION:2.0
PRODID:-//The PINK Network - ECPv6.9.1//NONSGML v1.0//EN
CALSCALE:GREGORIAN
METHOD:PUBLISH
X-WR-CALNAME:The PINK Network
X-ORIGINAL-URL:https://thepinknetwork.it
X-WR-CALDESC:Eventi per The PINK Network
REFRESH-INTERVAL;VALUE=DURATION:PT1H
X-Robots-Tag:noindex
X-PUBLISHED-TTL:PT1H
BEGIN:VTIMEZONE
TZID:Europe/Rome
BEGIN:DAYLIGHT
TZOFFSETFROM:+0100
TZOFFSETTO:+0200
TZNAME:CEST
DTSTART:20190331T010000
END:DAYLIGHT
BEGIN:STANDARD
TZOFFSETFROM:+0200
TZOFFSETTO:+0100
TZNAME:CET
DTSTART:20191027T010000
END:STANDARD
END:VTIMEZONE
BEGIN:VEVENT
DTSTART;TZID=Europe/Rome:20190506T133000
DTEND;TZID=Europe/Rome:20190506T153000
DTSTAMP:20260423T191100
CREATED:20200225T095159Z
LAST-MODIFIED:20200225T101748Z
UID:4083-1557149400-1557156600@thepinknetwork.it
SUMMARY:MPN work: Come usare LinkedIn per creare una rete professionale
DESCRIPTION:6 maggio 2019 – h 13:30\nImparare a usare Linkedin è importante per entrare a far parte di una rete di professionisti: è il social network dedicato al business che incentiva lo sviluppo di contatti professionali e fornisce tool utili per la ricerca del lavoro.\nUn ottimo strumento da tenere in considerazione per promuovere imprese e attività professionali. \nInsieme a Erika Mattavelli vedremo alcune linee guida per impostare un profilo efficace\, imparando ad interagire con i nostri collegamenti. \nDopo il workshop come sempre ci sarà modo di fare networking tra le partecipanti.\nPorta quindi i biglietti da visita con te e preparati per il tuo speech di presentazione. \n– – – – – – – –– – – –– – – –– – – –– – – –– – – –– – – –– – – –– – – –– – – \nCome sempre lo scopo della riunione è la collaborazione e la condivisione. \nSe hai un problema esponilo al gruppo\, potrai ricevere dei consigli.\nHai un progetto in testa e ti senti arenata\, forse parlarne ti aiuterà a schiarirti le idee.\nCerchi una partner per portare avanti la tua attività\, tra noi ci potrebbe essere. \nRicorda di prenotare il tuo posto e quello di un’amica contattandoci a monza@thepinknetwork.it o compila il form sottostante.\n\n\n  \n\n\n\n\n\n\n\n\n\n\n Il tuo nome (richiesto)\n \n \n La tua email (richiesto)\n \n \n Titolo incontro (richiesto)\n \n \n Scrivi se vieni con qualcuno\n \n \n\n Δ ×
URL:https://thepinknetwork.it/event/mpn-work-come-usare-linkedin-per-creare-una-rete-professionale/
LOCATION:Centro Civico San Fruttuoso\, Via Tazzoli 29\, Monza\, 20900\, Italia
CATEGORIES:Monza,Workshop
ATTACH;FMTTYPE=image/jpeg:https://thepinknetwork.it/wp-content/uploads/2019/04/56158212_906472939744551_8417204029695721472_o.jpg
END:VEVENT
BEGIN:VEVENT
DTSTART;TZID=Europe/Rome:20190507T183000
DTEND;TZID=Europe/Rome:20190507T203000
DTSTAMP:20260423T191100
CREATED:20200225T094836Z
LAST-MODIFIED:20200225T094836Z
UID:4081-1557253800-1557261000@thepinknetwork.it
SUMMARY:MPN care - Glutine sì\, glutine no: impariamo a conoscerlo
DESCRIPTION:7 maggio 2019 – h 18:30\nContinua il ciclo di incontri in collaborazione con LILT per parlare di sana alimentazione e prevenzione. \nInsieme al Dottor Andrea Sassola\, biologo nutrizionista di LILT Milano\, parleremo del tanto “temuto” glutine\, per scoprirne le caratteristiche\, sapere dove si trova\, com’è possibile sostituirlo nella nostra dieta\, ma soprattutto per rispondere ad una domanda: “Siamo tutti celiaci?”. \nVi aspettiamo in Via Tazzoli 29\, presso la Sala Polifunzionale del Centro Civico di San Fruttuoso.\nIngresso gratuito. \nIscrizioni entro il 3 maggio\, inviando un’email a prevenzione@legatumori.mi.it
URL:https://thepinknetwork.it/event/mpn-care-glutine-si-glutine-no-impariamo-a-conoscerlo/
LOCATION:Centro Civico San Fruttuoso\, Via Tazzoli 29\, Monza\, 20900\, Italia
CATEGORIES:Event,Monza
ATTACH;FMTTYPE=image/jpeg:https://thepinknetwork.it/wp-content/uploads/2019/04/57280521_921437194914792_9196054073462226944_o.jpg
END:VEVENT
BEGIN:VEVENT
DTSTART;TZID=Europe/Rome:20190513T133000
DTEND;TZID=Europe/Rome:20190513T153000
DTSTAMP:20260423T191100
CREATED:20200219T163132Z
LAST-MODIFIED:20200219T163132Z
UID:3945-1557754200-1557761400@thepinknetwork.it
SUMMARY:Segrate - Proteggi i tuoi sogni
DESCRIPTION:13 maggio 2019 – h 13:30\nTutto quello che avresti sempre voluto sapere sulle assicurazioni (e nessuno ti ha mai detto) \nCome comprendere quali sono i rischi finanziari in ambito previdenziale a cui puoi esporti e quali devi fronteggiare per poter assicurare a te e alla tua famiglia di dormire sonni tranquilli. \ncon Simona Volpi \nDove siamo\nSpazio Cascina Ovi\nVia Olgia 13\n20090 Segrate \n– – – – – – – –– – – –– – – –– – – –– – – –– – – –– – – –– – – –– – – –– – – \nCome sempre lo scopo della riunione è la collaborazione e la condivisione. \nSe hai un problema esponilo al gruppo\, potrai ricevere dei consigli.\nHai un progetto in testa e ti senti arenata\, forse parlarne ti aiuterà a schiarirti le idee.\nCerchi una partner per portare avanti la tua attività\, tra noi ci potrebbe essere. \nRicorda di prenotare il tuo posto e quello di un’amica contattandoci a segrate@thepinknetwork.it o compila il form sottostante.\n\n\n  \n\n\n\n\n\n\n\n\n\n\n Il tuo nome (richiesto)\n \n \n La tua email (richiesto)\n \n \n Titolo incontro (richiesto)\n \n \n Scrivi se vieni con qualcuno\n \n \n\n Δ ×
URL:https://thepinknetwork.it/event/segrate-proteggi-i-tuoi-sogni/
LOCATION:Spazio Cascina Ovi\, Via Olgia 13\, Segrate\, 20090\, Italia
CATEGORIES:Segrate
ATTACH;FMTTYPE=image/jpeg:https://thepinknetwork.it/wp-content/uploads/2019/05/thePINKriunione.jpg
END:VEVENT
BEGIN:VEVENT
DTSTART;TZID=Europe/Rome:20190513T150000
DTEND;TZID=Europe/Rome:20190513T180000
DTSTAMP:20260423T191100
CREATED:20200225T102412Z
LAST-MODIFIED:20200225T102412Z
UID:4085-1557759600-1557770400@thepinknetwork.it
SUMMARY:MPN culture: Corso di Blogging
DESCRIPTION:13 maggio 2019 – h 15:00-18:00\n11 maggio 2019 – h 9.30-13.30\n14 maggio 2019 – h 9.30-13.30\n18 maggio 2019 – h 9.30-13.30\n  \nNell’ambito del progetto Monza PINK network – culture\, un corso gratuito a cura di Irene Marone\, docente di Marketing per creare blog di successo\, acquisire tecniche per pubblicare e incrementare contenuti creativi multimediali. \nPuoi trovare il programma completo a questo link: http://bit.ly/2BLmhLS \nDove\nCentro Civico San Fruttuoso – Sala Polifunzionale\nVia Tazzoli 29\, Monza \n📣 ISCRIZIONI http://bit.ly/2EqrHxz \nSi richiede la partecipazione a tutti e tre gli appuntamenti. \nInfo: cittadini.mls@csvlombardia.it\nTel. 039-2848308\n\n\nCentro Civico San Carlo – San Giuseppe\,\nVia Silva 26\, 20900 Monza
URL:https://thepinknetwork.it/event/mpn-culture-corso-di-blogging/
LOCATION:Centro Civico San Fruttuoso\, Via Tazzoli 29\, Monza\, 20900\, Italia
CATEGORIES:Event,Monza
ATTACH;FMTTYPE=image/jpeg:https://thepinknetwork.it/wp-content/uploads/2019/04/52784465_885125438545968_2584221486302625792_o.jpg
END:VEVENT
BEGIN:VEVENT
DTSTART;TZID=Europe/Rome:20190516T130000
DTEND;TZID=Europe/Rome:20190516T150000
DTSTAMP:20260423T191100
CREATED:20200220T140838Z
LAST-MODIFIED:20200220T140838Z
UID:3960-1558011600-1558018800@thepinknetwork.it
SUMMARY:Altomilanese - Metti un CRM al centro del tuo business
DESCRIPTION:16 maggio 2019 – h 13:00\nMettere il cliente al centro delle tue attività.\nOrganizzare e svolgere ogni azione intorno a lui in maniera semplice e veloce\, anche in collaborazione con più persone\, interne o esterne alla tua organizzazione. \nGestire le attività di marketing.\nQuanto tempo e fatica potresti risparmiare con uno strumento che ti permette di gestire il business (e non solo il business) in maniera veloce\, efficiente ed organizzata? \nUno strumento con queste funzionalità esiste e si chiama CRM. \nSaperne di più ti sarà veramente utile\, e dopo non vedrai l’ora di iniziare ad usarlo! \ncon Barbara Busto \nDove siamo\nProgetto Creativo Corsi\nvia Brodolini 6\,\n20010 Pogliano Milanese \n– – – – – – – –– – – –– – – –– – – –– – – –– – – –– – – –– – – –– – – –– – – \nCome sempre lo scopo della riunione è la collaborazione e la condivisione. \nSe hai un problema esponilo al gruppo\, potrai ricevere dei consigli.\nHai un progetto in testa e ti senti arenata\, forse parlarne ti aiuterà a schiarirti le idee.\nCerchi una partner per portare avanti la tua attività\, tra noi ci potrebbe essere. \nRicorda di prenotare il tuo posto e quello di un’amica contattandoci a info@thepinknetwork.it o compila il form sottostante.\n\n\n  \n\n\n\n\n\n\n\n\n\n\n Il tuo nome (richiesto)\n \n \n La tua email (richiesto)\n \n \n Titolo incontro (richiesto)\n \n \n Scrivi se vieni con qualcuno\n \n \n\n Δ ×
URL:https://thepinknetwork.it/event/altomilanese-metti-un-crm-al-centro-del-tuo-business/
LOCATION:Progetto Creativo Corsi\, via Brodolini 6\, Pogliano Milanese\, 20010\, Italia
CATEGORIES:Altomilanese,Workshop
ATTACH;FMTTYPE=image/png:https://thepinknetwork.it/wp-content/uploads/2019/04/thePINKriunione-4.png
END:VEVENT
BEGIN:VEVENT
DTSTART;TZID=Europe/Rome:20190521T180000
DTEND;TZID=Europe/Rome:20190521T200000
DTSTAMP:20260423T191100
CREATED:20200225T094449Z
LAST-MODIFIED:20200225T094449Z
UID:4079-1558461600-1558468800@thepinknetwork.it
SUMMARY:MPN care - Sostanze nervine e salute
DESCRIPTION:21 maggio 2019 – h 18:00\nContinua il ciclo di incontri in collaborazione con LILT per parlare di sana alimentazione e prevenzione. \nInsieme alla Dottoressa Alessandra Borgo\, biologa nutrizionista di LILT Milano\, questa volta per parlare di tè\, caffè e cacao!\nPartiremo così per un viaggio alla scoperta delle proprietà\, dei benefici e dei possibili effetti collaterali di questi nostri piccoli grandi alleati o vizi quotidiani 🙂 ☕🍫 \nVi aspettiamo in Via Tazzoli 29\, presso la Sala Polifunzionale del Centro Civico di San Fruttuoso.\nIngresso gratuito. \nIscrizioni entro il 3 maggio\, inviando un’email a prevenzione@legatumori.mi.it
URL:https://thepinknetwork.it/event/mpn-care-sostanze-nervine-e-salute/
LOCATION:Centro Civico San Fruttuoso\, Via Tazzoli 29\, Monza\, 20900\, Italia
CATEGORIES:Event,Monza
ATTACH;FMTTYPE=image/jpeg:https://thepinknetwork.it/wp-content/uploads/2019/04/58382703_922009498190895_2874521207762321408_o.jpg
END:VEVENT
END:VCALENDAR