BEGIN:VCALENDAR
VERSION:2.0
PRODID:-//The PINK Network - ECPv6.9.1//NONSGML v1.0//EN
CALSCALE:GREGORIAN
METHOD:PUBLISH
X-ORIGINAL-URL:https://thepinknetwork.it
X-WR-CALDESC:Eventi per The PINK Network
REFRESH-INTERVAL;VALUE=DURATION:PT1H
X-Robots-Tag:noindex
X-PUBLISHED-TTL:PT1H
BEGIN:VTIMEZONE
TZID:Europe/Rome
BEGIN:DAYLIGHT
TZOFFSETFROM:+0100
TZOFFSETTO:+0200
TZNAME:CEST
DTSTART:20220327T010000
END:DAYLIGHT
BEGIN:STANDARD
TZOFFSETFROM:+0200
TZOFFSETTO:+0100
TZNAME:CET
DTSTART:20221030T010000
END:STANDARD
BEGIN:DAYLIGHT
TZOFFSETFROM:+0100
TZOFFSETTO:+0200
TZNAME:CEST
DTSTART:20230326T010000
END:DAYLIGHT
BEGIN:STANDARD
TZOFFSETFROM:+0200
TZOFFSETTO:+0100
TZNAME:CET
DTSTART:20231029T010000
END:STANDARD
END:VTIMEZONE
BEGIN:VEVENT
DTSTART;VALUE=DATE:20220118
DTEND;VALUE=DATE:20230331
DTSTAMP:20260421T004600
CREATED:20230106T125902Z
LAST-MODIFIED:20230123T144857Z
UID:4343-1642464000-1680220799@thepinknetwork.it
SUMMARY:MPN: PINK coworking
DESCRIPTION:Ogni martedì e giovedì\nDa martedì 17 gennaio\, riparte il coworking in via Silva 26 a Monza.\nLuogo magico per noi Pinkers dove sono nate fantastiche collaborazioni e amicizie indissolubili. \n\nGiorni di apertura: martedì e giovedì\,\nOrario: 9.30 – 15.30\nNumero di postazioni totali disponibili: 15\n\nE’ d’obbligo la prenotazione del posto compilando questo form\n\nPer domande o dubbi contattaci via mail monza@thepinknetwork.it o compila il form sottostante.\n\n\n  \n\n\n\n\n\n\n\n\n\n\n Il tuo nome (richiesto)\n \n \n La tua email (richiesto)\n \n \n Titolo incontro (richiesto)\n \n \n Scrivi se vieni con qualcuno\n \n \n\n Δ ×
URL:https://thepinknetwork.it/event/mpn-pink-coworking/
LOCATION:Silva26\, Via Giulio Silva 26\, Monza\, 20900\, Italia
CATEGORIES:Monza
ATTACH;FMTTYPE=image/jpeg:https://thepinknetwork.it/wp-content/uploads/2020/10/120200682_10220126708732693_9217515145301266940_o.jpg
END:VEVENT
BEGIN:VEVENT
DTSTART;TZID=Europe/Rome:20221201T183000
DTEND;TZID=Europe/Rome:20221201T203000
DTSTAMP:20260421T004600
CREATED:20221128T120302Z
LAST-MODIFIED:20221128T123218Z
UID:4656-1669919400-1669926600@thepinknetwork.it
SUMMARY:PINK is the new SPRITZ - Business affairs e bollicine
DESCRIPTION:Giovedì 1 dicembre\, ore 18.30\nUn tema conduttore\, un bicchiere in mano e tanta voglia di raccontarsi e confrontarsi con altre donne\, questi saranno gli ingredienti delle nostre serate \n \nIn questo quarto incontro a SEGRATE\, presso Spazio Cascina Ovi\, parleremo di LAVORO!\nDi cosa ti stai occupando in questo periodo? Quali sono i progetti in cantiere? Cambiamenti in vista? Collaborazioni interessanti all’orizzonte? E The PINK network che farà prossimamente? \n \nParliamone\, con il bicchiere un mano\, per condividere e trovare nuovi spunti.\n\n€10 quota di partecipazione\n€5 per le associate\n \n\nL‘iscrizione è obbligatoria! \nRicorda di inviare un’email a info@thepinknetwork.it o compila il form sottostante. \n\n\n  \n\n\n\n\n\n\n\n\n\n\n Il tuo nome (richiesto)\n \n \n La tua email (richiesto)\n \n \n Titolo incontro (richiesto)\n \n \n Scrivi se vieni con qualcuno\n \n \n\n Δ ×
URL:https://thepinknetwork.it/event/pink-is-the-new-spritz-business-affairs/
LOCATION:Spazio Cascina Ovi\, Via Olgia 13\, Segrate\, 20090\, Italia
CATEGORIES:Segrate
ATTACH;FMTTYPE=image/jpeg:https://thepinknetwork.it/wp-content/uploads/2022/11/aperitivo-business.jpg
END:VEVENT
END:VCALENDAR