BEGIN:VCALENDAR
VERSION:2.0
PRODID:-//The PINK Network - ECPv6.9.1//NONSGML v1.0//EN
CALSCALE:GREGORIAN
METHOD:PUBLISH
X-WR-CALNAME:The PINK Network
X-ORIGINAL-URL:https://thepinknetwork.it
X-WR-CALDESC:Eventi per The PINK Network
REFRESH-INTERVAL;VALUE=DURATION:PT1H
X-Robots-Tag:noindex
X-PUBLISHED-TTL:PT1H
BEGIN:VTIMEZONE
TZID:Europe/Rome
BEGIN:DAYLIGHT
TZOFFSETFROM:+0100
TZOFFSETTO:+0200
TZNAME:CEST
DTSTART:20220327T010000
END:DAYLIGHT
BEGIN:STANDARD
TZOFFSETFROM:+0200
TZOFFSETTO:+0100
TZNAME:CET
DTSTART:20221030T010000
END:STANDARD
BEGIN:DAYLIGHT
TZOFFSETFROM:+0100
TZOFFSETTO:+0200
TZNAME:CEST
DTSTART:20230326T010000
END:DAYLIGHT
BEGIN:STANDARD
TZOFFSETFROM:+0200
TZOFFSETTO:+0100
TZNAME:CET
DTSTART:20231029T010000
END:STANDARD
END:VTIMEZONE
BEGIN:VEVENT
DTSTART;VALUE=DATE:20220118
DTEND;VALUE=DATE:20230331
DTSTAMP:20260421T062612
CREATED:20230106T125902Z
LAST-MODIFIED:20230123T144857Z
UID:4343-1642464000-1680220799@thepinknetwork.it
SUMMARY:MPN: PINK coworking
DESCRIPTION:Ogni martedì e giovedì\nDa martedì 17 gennaio\, riparte il coworking in via Silva 26 a Monza.\nLuogo magico per noi Pinkers dove sono nate fantastiche collaborazioni e amicizie indissolubili. \n\nGiorni di apertura: martedì e giovedì\,\nOrario: 9.30 – 15.30\nNumero di postazioni totali disponibili: 15\n\nE’ d’obbligo la prenotazione del posto compilando questo form\n\nPer domande o dubbi contattaci via mail monza@thepinknetwork.it o compila il form sottostante.\n\n\n  \n\n\n\n\n\n\n\n\n\n\n Il tuo nome (richiesto)\n \n \n La tua email (richiesto)\n \n \n Titolo incontro (richiesto)\n \n \n Scrivi se vieni con qualcuno\n \n \n\n Δ ×
URL:https://thepinknetwork.it/event/mpn-pink-coworking/
LOCATION:Silva26\, Via Giulio Silva 26\, Monza\, 20900\, Italia
CATEGORIES:Monza
ATTACH;FMTTYPE=image/jpeg:https://thepinknetwork.it/wp-content/uploads/2020/10/120200682_10220126708732693_9217515145301266940_o.jpg
END:VEVENT
BEGIN:VEVENT
DTSTART;TZID=Europe/Rome:20220927T183000
DTEND;TZID=Europe/Rome:20220927T203000
DTSTAMP:20260421T062613
CREATED:20220926T131650Z
LAST-MODIFIED:20220926T131815Z
UID:4575-1664303400-1664310600@thepinknetwork.it
SUMMARY:MPN - PINK is the new SPRITZ: Mangia per piacere!
DESCRIPTION:Martedì 27 settembre\, ore 18.30\nUn tema conduttore\, un bicchiere in mano e tanta voglia di raccontarsi e confrontarsi con altre donne\, questi saranno gli ingredienti delle nostre serate \nIn questo primo incontro a MONZA\, presso l’oratorio di San Biagio\, Via Manara 10\, parleremo di pranzi e cene\, di spuntini\, di merende per bambini e ragazzi e in generale di quanto la qualità del nostro rapporto con il cibo sia direttamente proporzionale al nostro buon rapporto con noi stesse \nA guidarci in questa chiacchierata ci sarà la biologa nutrizionista Flavia Tutino di Mangia per piacere  \nVi aspettiamo all’Oratorio San Biagio\, Via Manara 10\, Monza \n\nLa partecipazione è libera e la consumazione non è obbligatoria ma… l’iscrizione sì! \nRicorda di inviare un’email a monza@thepinknetwork.it o compila il form sottostante. \n\n\n  \n\n\n\n\n\n\n\n\n\n\n Il tuo nome (richiesto)\n \n \n La tua email (richiesto)\n \n \n Titolo incontro (richiesto)\n \n \n Scrivi se vieni con qualcuno\n \n \n\n Δ ×
URL:https://thepinknetwork.it/event/mpn-pink-is-the-new-spritz-mangia-per-piacere/
LOCATION:Oratorio San Biagio\, Via Manara 10\, Monza\, 20900
CATEGORIES:Monza
ATTACH;FMTTYPE=image/png:https://thepinknetwork.it/wp-content/uploads/2022/09/MPN-spritz-2709.png
END:VEVENT
BEGIN:VEVENT
DTSTART;TZID=Europe/Rome:20221006T183000
DTEND;TZID=Europe/Rome:20221006T203000
DTSTAMP:20260421T062613
CREATED:20221003T090134Z
LAST-MODIFIED:20221003T093419Z
UID:4581-1665081000-1665088200@thepinknetwork.it
SUMMARY:PINK is the new SPRITZ - Relazioni: Fermo vs mosso
DESCRIPTION:Giovedì 6 ottobre\, ore 18.30\nUn tema conduttore\, un bicchiere in mano e tanta voglia di raccontarsi e confrontarsi con altre donne\, questi saranno gli ingredienti delle nostre serate \n \nIn questo secondo incontro a SEGRATE\, presso Spazio Cascina Ovi\, parleremo di RELAZIONI!\nA condurci in queste chiacchiere in libertà sulle nostre esperienze e sulle emozioni che viviamo\, sarà Greta Pizzocri\, mediatrice familiare\, esperta nella gestione dei conflitti. \nVi aspettiamo quindi\, con il bicchiere in mano\, per confrontarci sui rapporti che viviamo ogni giorno.\n\n€10 quota di partecipazione\n€5 per le associate\n \n\nL‘iscrizione è obbligatoria! \nRicorda di inviare un’email a info@thepinknetwork.it o compila il form sottostante. \n\n\n  \n\n\n\n\n\n\n\n\n\n\n Il tuo nome (richiesto)\n \n \n La tua email (richiesto)\n \n \n Titolo incontro (richiesto)\n \n \n Scrivi se vieni con qualcuno\n \n \n\n Δ ×
URL:https://thepinknetwork.it/event/pink-is-the-new-spritz-relazioni/
LOCATION:Spazio Cascina Ovi\, Via Olgia 13\, Segrate\, 20090\, Italia
CATEGORIES:Segrate
ATTACH;FMTTYPE=image/jpeg:https://thepinknetwork.it/wp-content/uploads/2022/10/Segrate-relazioni.jpg
END:VEVENT
BEGIN:VEVENT
DTSTART;TZID=Europe/Rome:20221020T183000
DTEND;TZID=Europe/Rome:20221020T203000
DTSTAMP:20260421T062613
CREATED:20221018T124955Z
LAST-MODIFIED:20221018T124955Z
UID:4586-1666290600-1666297800@thepinknetwork.it
SUMMARY:PINK is the new SPRITZ - Sensualmente rosso
DESCRIPTION:Giovedì 20 ottobre\, ore 18.30\nUn tema conduttore\, un bicchiere in mano e tanta voglia di raccontarsi e confrontarsi con altre donne\, questi saranno gli ingredienti delle nostre serate \n \nA Segrate giovedì sera parleremo di SENSI e SENSUALITA‘ con Debora Cordeschi.\nTutte le scoperte del mondo iniziano con uno dei 5 sensi principali.\nQuale senti più tuo? Quale ti dà più piacere e quale meno?\nScopriamolo insieme\, ospiti questa volta di Pan Puglia (che sicuramente si occuperà del nostro Gusto ) \nVi aspettiamo quindi\, con il bicchiere in mano\, per confrontarci sui rapporti che viviamo ogni giorno.\n\nCosto dell’aperitivo €10 \n\nL‘iscrizione è obbligatoria! \nRicorda di inviare un’email a info@thepinknetwork.it o compila il form sottostante. \n\n\n  \n\n\n\n\n\n\n\n\n\n\n Il tuo nome (richiesto)\n \n \n La tua email (richiesto)\n \n \n Titolo incontro (richiesto)\n \n \n Scrivi se vieni con qualcuno\n \n \n\n Δ ×
URL:https://thepinknetwork.it/event/pink-is-the-new-spritz-sensualmente-rosso/
LOCATION:Pan Puglia\, Via Cassanese 77\, Fashion City Outlet\, Segrate\, 20090\, Italia
CATEGORIES:Segrate
ATTACH;FMTTYPE=image/jpeg:https://thepinknetwork.it/wp-content/uploads/2022/10/Sensualmente-rosso.jpg
END:VEVENT
BEGIN:VEVENT
DTSTART;TZID=Europe/Rome:20221110T183000
DTEND;TZID=Europe/Rome:20221110T203000
DTSTAMP:20260421T062613
CREATED:20221104T151204Z
LAST-MODIFIED:20221104T151347Z
UID:4610-1668105000-1668112200@thepinknetwork.it
SUMMARY:PINK is the new SPRITZ - Riparto da me con un rosé
DESCRIPTION:Giovedì 10 novembre\, ore 18.30\nUn tema conduttore\, un bicchiere in mano e tanta voglia di raccontarsi e confrontarsi con altre donne\, questi saranno gli ingredienti delle nostre serate \n \nIn questo quarto incontro a SEGRATE\, presso Spazio Cascina Ovi\, parleremo di RIPARTENZE!\nQuante volte ci siamo dovute fermare? Quante reinventare?\nQuante ci siamo sgretolate e quante ricostruite?\nE ora a che punto siamo? \nParliamone\, con il bicchiere un mano\, per condividere e trovare nuovi spunti.\n\n€10 quota di partecipazione\n€5 per le associate\n \n\nL‘iscrizione è obbligatoria! \nRicorda di inviare un’email a info@thepinknetwork.it o compila il form sottostante. \n\n\n  \n\n\n\n\n\n\n\n\n\n\n Il tuo nome (richiesto)\n \n \n La tua email (richiesto)\n \n \n Titolo incontro (richiesto)\n \n \n Scrivi se vieni con qualcuno\n \n \n\n Δ ×
URL:https://thepinknetwork.it/event/pink-is-the-new-spritz-riparto-da-me/
LOCATION:Spazio Cascina Ovi\, Via Olgia 13\, Segrate\, 20090\, Italia
CATEGORIES:Segrate
ATTACH;FMTTYPE=image/jpeg:https://thepinknetwork.it/wp-content/uploads/2022/11/riparto-da-me.jpg
END:VEVENT
BEGIN:VEVENT
DTSTART;TZID=Europe/Rome:20221129T183000
DTEND;TZID=Europe/Rome:20221129T203000
DTSTAMP:20260421T062613
CREATED:20221104T152251Z
LAST-MODIFIED:20221104T152507Z
UID:4614-1669746600-1669753800@thepinknetwork.it
SUMMARY:MPN - PINK is the new SPRITZ: Quotidiana "sopravvivenza"
DESCRIPTION:Martedì 29 novembre\, ore 17.30\nUn tema conduttore\, un bicchiere in mano e tanta voglia di raccontarsi e confrontarsi con altre donne\, questi saranno gli ingredienti delle nostre serate  \nIn questo terzo incontro a Monza\, parleremo di temi molto attuali. \nCome risparmiare alla fine del mese e intanto dare una mano al nostro ambiente? Ma soprattutto\, come rafforzare e partecipare ai legami di comunità all’interno di reti solidali sul nostro territorio? Per sostenersi con reciprocità e fiducia\, sia come famiglie che come piccole realtà commerciali?\nBaratto e prestito di oggetti\, scambio di piaceri e di competenze\, valorizzazione delle risorse personali e sostegno reciproco.\nSi può fare\, anche stando anche sedute sul proprio divano o mentre si prepara la cena in cucina.\nScopriamo insieme come con Sara Didoni del DESBRI. \nVi aspettiamo all’Oratorio San Biagio\, Via Manara 10\, Monza \n\nLa partecipazione è libera e la consumazione non è obbligatoria ma… l’iscrizione sì! \nRicorda di inviare un’email a monza@thepinknetwork.it o compila il form sottostante. \n\n\n  \n\n\n\n\n\n\n\n\n\n\n Il tuo nome (richiesto)\n \n \n La tua email (richiesto)\n \n \n Titolo incontro (richiesto)\n \n \n Scrivi se vieni con qualcuno\n \n \n\n Δ ×
URL:https://thepinknetwork.it/event/mpn-pink-is-the-new-spritz-quotidiana-sopravvivenza/
LOCATION:Oratorio San Biagio\, Via Manara 10\, Monza\, 20900
CATEGORIES:Monza
ATTACH;FMTTYPE=image/png:https://thepinknetwork.it/wp-content/uploads/2022/11/sopravvivenza.png
END:VEVENT
BEGIN:VEVENT
DTSTART;TZID=Europe/Rome:20221201T183000
DTEND;TZID=Europe/Rome:20221201T203000
DTSTAMP:20260421T062613
CREATED:20221128T120302Z
LAST-MODIFIED:20221128T123218Z
UID:4656-1669919400-1669926600@thepinknetwork.it
SUMMARY:PINK is the new SPRITZ - Business affairs e bollicine
DESCRIPTION:Giovedì 1 dicembre\, ore 18.30\nUn tema conduttore\, un bicchiere in mano e tanta voglia di raccontarsi e confrontarsi con altre donne\, questi saranno gli ingredienti delle nostre serate \n \nIn questo quarto incontro a SEGRATE\, presso Spazio Cascina Ovi\, parleremo di LAVORO!\nDi cosa ti stai occupando in questo periodo? Quali sono i progetti in cantiere? Cambiamenti in vista? Collaborazioni interessanti all’orizzonte? E The PINK network che farà prossimamente? \n \nParliamone\, con il bicchiere un mano\, per condividere e trovare nuovi spunti.\n\n€10 quota di partecipazione\n€5 per le associate\n \n\nL‘iscrizione è obbligatoria! \nRicorda di inviare un’email a info@thepinknetwork.it o compila il form sottostante. \n\n\n  \n\n\n\n\n\n\n\n\n\n\n Il tuo nome (richiesto)\n \n \n La tua email (richiesto)\n \n \n Titolo incontro (richiesto)\n \n \n Scrivi se vieni con qualcuno\n \n \n\n Δ ×
URL:https://thepinknetwork.it/event/pink-is-the-new-spritz-business-affairs/
LOCATION:Spazio Cascina Ovi\, Via Olgia 13\, Segrate\, 20090\, Italia
CATEGORIES:Segrate
ATTACH;FMTTYPE=image/jpeg:https://thepinknetwork.it/wp-content/uploads/2022/11/aperitivo-business.jpg
END:VEVENT
END:VCALENDAR