BEGIN:VCALENDAR
VERSION:2.0
PRODID:-//The PINK Network - ECPv6.9.1//NONSGML v1.0//EN
CALSCALE:GREGORIAN
METHOD:PUBLISH
X-ORIGINAL-URL:https://thepinknetwork.it
X-WR-CALDESC:Eventi per The PINK Network
REFRESH-INTERVAL;VALUE=DURATION:PT1H
X-Robots-Tag:noindex
X-PUBLISHED-TTL:PT1H
BEGIN:VTIMEZONE
TZID:Europe/Rome
BEGIN:DAYLIGHT
TZOFFSETFROM:+0100
TZOFFSETTO:+0200
TZNAME:CEST
DTSTART:20210328T010000
END:DAYLIGHT
BEGIN:STANDARD
TZOFFSETFROM:+0200
TZOFFSETTO:+0100
TZNAME:CET
DTSTART:20211031T010000
END:STANDARD
END:VTIMEZONE
BEGIN:VEVENT
DTSTART;TZID=Europe/Rome:20210518T130000
DTEND;TZID=Europe/Rome:20210518T143000
DTSTAMP:20260422T045947
CREATED:20210501T105002Z
LAST-MODIFIED:20210512T071534Z
UID:4460-1621342800-1621348200@thepinknetwork.it
SUMMARY:MPN - La tua attività è redditizia?
DESCRIPTION:Martedì 18 maggio ore 13:00 – online\nIn questo nuovo incontro Barbara Busto di Delegando – Più valore al tuo tempo ci pone la DOMANDA CHIAVE per il nostro business: stiamo lavorando solo per “la gloria” oppure la nostra attività è redditizia? \nDomanda scomoda ma “fondamentale”…come gli incontri di Barbara. \nUna grande quantità di lavoro svolto ed un fatturato di tutto rispetto non sono sempre sinonimo di un reale guadagno…\nUn’attività è remunerativa\, infatti\, solo quando ciò che incassiamo supera le spese necessarie a portarla avanti. \nQuindi\, come è possibile verificare la redditività di un’attività o di un progetto? \nLo strumento è il Conto Profitti & Perdite: impareremo a conoscerlo per capire come costruirlo e gestirlo per renderlo davvero utile a fornirci una chiara fotografia della nostra attività. \n  \n\nRicorda di iscriverti inviando un’email a monza@thepinknetwork.it o compila il form sottostante.\nInvieremo il link per l’appuntamento su Zoom rispondendo all’email di iscrizione. \n\n\n  \n\n\n\n\n\n\n\n\n\n\n Il tuo nome (richiesto)\n \n \n La tua email (richiesto)\n \n \n Titolo incontro (richiesto)\n \n \n Scrivi se vieni con qualcuno\n \n \n\n Δ ×
URL:https://thepinknetwork.it/event/mpn-la-tua-attivita-e-redditizia/
LOCATION:Online\, Italia
CATEGORIES:Altomilanese,Event,Monza,Segrate,Workshop
ATTACH;FMTTYPE=image/jpeg:https://thepinknetwork.it/wp-content/uploads/2021/05/2021-05-18-MPN-Redditivita.jpeg
END:VEVENT
END:VCALENDAR