BEGIN:VCALENDAR
VERSION:2.0
PRODID:-//The PINK Network - ECPv6.9.1//NONSGML v1.0//EN
CALSCALE:GREGORIAN
METHOD:PUBLISH
X-ORIGINAL-URL:https://thepinknetwork.it
X-WR-CALDESC:Eventi per The PINK Network
REFRESH-INTERVAL;VALUE=DURATION:PT1H
X-Robots-Tag:noindex
X-PUBLISHED-TTL:PT1H
BEGIN:VTIMEZONE
TZID:Europe/Rome
BEGIN:DAYLIGHT
TZOFFSETFROM:+0100
TZOFFSETTO:+0200
TZNAME:CEST
DTSTART:20210328T010000
END:DAYLIGHT
BEGIN:STANDARD
TZOFFSETFROM:+0200
TZOFFSETTO:+0100
TZNAME:CET
DTSTART:20211031T010000
END:STANDARD
END:VTIMEZONE
BEGIN:VEVENT
DTSTART;TZID=Europe/Rome:20210511T130000
DTEND;TZID=Europe/Rome:20210511T143000
DTSTAMP:20260422T045946
CREATED:20210430T130157Z
LAST-MODIFIED:20210430T130217Z
UID:4455-1620738000-1620743400@thepinknetwork.it
SUMMARY:MPN - Mindfulness: cura di sé e gestione dello stress.
DESCRIPTION:Martedì 11 maggio ore 13:00 – online\nChi ha provato a surfare o veleggiare? \nChi fa surf o vela sa bene che non possiamo controllare il mare\, le onde o il vento. \nCosì come non possiamo sottrarci al flusso incessante delle onde della vita.\nSi tratta di forze più grandi di noi.\nPossiamo però imparare a surfare o veleggiare sulle onde. \nLe onde in questo periodo storico sono mosse\, alte e incerte.\nIl corpo e la mente vengono messi alla prova ed entrano in un circuito protettivo di allerta continua che genera stress nelle nostre vite. \nSilvia Valaguzza\, mindfulness counselor\, ci racconta come questa disciplina\, che ci invita a porre attenzione intenzionalmente\, nel momento presente e in modo non giudicante\, ci possa aiutare non a fermare le onde ma a imparare a surfare\, ognuno a modo proprio. \n  \n\nRicorda di iscriverti inviando un’email a monza@thepinknetwork.it o compila il form sottostante.\nInvieremo il link per l’appuntamento su Zoom rispondendo all’email di iscrizione. \n\n\n  \n\n\n\n\n\n\n\n\n\n\n Il tuo nome (richiesto)\n \n \n La tua email (richiesto)\n \n \n Titolo incontro (richiesto)\n \n \n Scrivi se vieni con qualcuno\n \n \n\n Δ ×
URL:https://thepinknetwork.it/event/mpn-mindfulness-cura-di-se-e-gestione-dello-stress/
LOCATION:Online\, Italia
CATEGORIES:Altomilanese,Event,Monza,Segrate,Workshop
ATTACH;FMTTYPE=image/png:https://thepinknetwork.it/wp-content/uploads/2021/04/2021-05-11-MPN-Mindfulness.png
END:VEVENT
END:VCALENDAR