BEGIN:VCALENDAR
VERSION:2.0
PRODID:-//The PINK Network - ECPv6.9.1//NONSGML v1.0//EN
CALSCALE:GREGORIAN
METHOD:PUBLISH
X-ORIGINAL-URL:https://thepinknetwork.it
X-WR-CALDESC:Eventi per The PINK Network
REFRESH-INTERVAL;VALUE=DURATION:PT1H
X-Robots-Tag:noindex
X-PUBLISHED-TTL:PT1H
BEGIN:VTIMEZONE
TZID:Europe/Rome
BEGIN:DAYLIGHT
TZOFFSETFROM:+0100
TZOFFSETTO:+0200
TZNAME:CEST
DTSTART:20210328T010000
END:DAYLIGHT
BEGIN:STANDARD
TZOFFSETFROM:+0200
TZOFFSETTO:+0100
TZNAME:CET
DTSTART:20211031T010000
END:STANDARD
END:VTIMEZONE
BEGIN:VEVENT
DTSTART;TZID=Europe/Rome:20210504T130000
DTEND;TZID=Europe/Rome:20210504T143000
DTSTAMP:20260422T045948
CREATED:20210424T110757Z
LAST-MODIFIED:20210424T110757Z
UID:4451-1620133200-1620138600@thepinknetwork.it
SUMMARY:MPN - Clacson Pie: il marketing e la pasticceria.
DESCRIPTION:Martedì 4 maggio ore 13:00 – online\n“Dolce passione o passione per i dolci? \nDaniela Zeziola di Clacson Pie ci racconta la storia di una HR Specialist in una grande multinazionale che decide di cambiare tutto dopo l’incontro con una cheesecake. \nL’arte di reinventare se stessi e la felice consapevolezza che per cambiare vita non c’è mai una scadenza. \n  \n\nRicorda di iscriverti inviando un’email a monza@thepinknetwork.it o compila il form sottostante.\nInvieremo il link per l’appuntamento su Zoom rispondendo all’email di iscrizione. \n\n\n  \n\n\n\n\n\n\n\n\n\n\n Il tuo nome (richiesto)\n \n \n La tua email (richiesto)\n \n \n Titolo incontro (richiesto)\n \n \n Scrivi se vieni con qualcuno\n \n \n\n Δ ×
URL:https://thepinknetwork.it/event/mpn-clacson-pie-marketing-pasticceria/
LOCATION:Online\, Italia
CATEGORIES:Altomilanese,Event,Monza,Segrate,Workshop
ATTACH;FMTTYPE=image/png:https://thepinknetwork.it/wp-content/uploads/2021/04/2021-05-04-MPN-Marketing-pasticceria.png
END:VEVENT
END:VCALENDAR