BEGIN:VCALENDAR
VERSION:2.0
PRODID:-//The PINK Network - ECPv6.9.1//NONSGML v1.0//EN
CALSCALE:GREGORIAN
METHOD:PUBLISH
X-WR-CALNAME:The PINK Network
X-ORIGINAL-URL:https://thepinknetwork.it
X-WR-CALDESC:Eventi per The PINK Network
REFRESH-INTERVAL;VALUE=DURATION:PT1H
X-Robots-Tag:noindex
X-PUBLISHED-TTL:PT1H
BEGIN:VTIMEZONE
TZID:Europe/Rome
BEGIN:DAYLIGHT
TZOFFSETFROM:+0100
TZOFFSETTO:+0200
TZNAME:CEST
DTSTART:20210328T010000
END:DAYLIGHT
BEGIN:STANDARD
TZOFFSETFROM:+0200
TZOFFSETTO:+0100
TZNAME:CET
DTSTART:20211031T010000
END:STANDARD
END:VTIMEZONE
BEGIN:VEVENT
DTSTART;TZID=Europe/Rome:20210420T130000
DTEND;TZID=Europe/Rome:20210420T143000
DTSTAMP:20260422T062906
CREATED:20210416T133326Z
LAST-MODIFIED:20210416T133657Z
UID:4440-1618923600-1618929000@thepinknetwork.it
SUMMARY:MPN - La negoziazione: come condurre una trattativa di successo
DESCRIPTION:Martedì 20 aprile ore 13:00 – online\nTorna la nostra Barbara Busto di Delegando – Più valore al tuo tempo con i suoi “fondamentali” per parlare questa volta di quali siano i fattori che facilitano un risultato di successo in una trattativa.  \nNegoziamo ogni giorno\, tanto in ambito professionale quanto nella vita privata. Il risultato difficilmente è garantito ma dobbiamo poter dire a noi stessi di aver fatto quanto era in nostro potere per uscirne “vincitori”. \n\nRicorda di iscriverti inviando un’email a monza@thepinknetwork.it o compila il form sottostante.\nInvieremo il link per l’appuntamento su Zoom rispondendo all’email di iscrizione. \n\n\n  \n\n\n\n\n\n\n\n\n\n\n Il tuo nome (richiesto)\n \n \n La tua email (richiesto)\n \n \n Titolo incontro (richiesto)\n \n \n Scrivi se vieni con qualcuno\n \n \n\n Δ ×
URL:https://thepinknetwork.it/event/mpn-negoziazione/
LOCATION:Online\, Italia
CATEGORIES:Altomilanese,Event,Monza,Segrate
ATTACH;FMTTYPE=image/png:https://thepinknetwork.it/wp-content/uploads/2021/04/negoziazione.png
END:VEVENT
END:VCALENDAR