BEGIN:VCALENDAR
VERSION:2.0
PRODID:-//The PINK Network - ECPv6.9.1//NONSGML v1.0//EN
CALSCALE:GREGORIAN
METHOD:PUBLISH
X-ORIGINAL-URL:https://thepinknetwork.it
X-WR-CALDESC:Eventi per The PINK Network
REFRESH-INTERVAL;VALUE=DURATION:PT1H
X-Robots-Tag:noindex
X-PUBLISHED-TTL:PT1H
BEGIN:VTIMEZONE
TZID:Europe/Rome
BEGIN:DAYLIGHT
TZOFFSETFROM:+0100
TZOFFSETTO:+0200
TZNAME:CEST
DTSTART:20210328T010000
END:DAYLIGHT
BEGIN:STANDARD
TZOFFSETFROM:+0200
TZOFFSETTO:+0100
TZNAME:CET
DTSTART:20211031T010000
END:STANDARD
END:VTIMEZONE
BEGIN:VEVENT
DTSTART;TZID=Europe/Rome:20210325T130000
DTEND;TZID=Europe/Rome:20210325T143000
DTSTAMP:20260422T074652
CREATED:20210318T160427Z
LAST-MODIFIED:20210318T160751Z
UID:4435-1616677200-1616682600@thepinknetwork.it
SUMMARY:MPN - Cammin cammino... Viaggiando a piedi nelle isole d'Italia
DESCRIPTION:Giovedì 25 marzo ore 13:00 – online\nL’inverno lo abbiamo lasciato alle spalle\, iniziamo a fantasticare di evadere finalmente e quindi possiamo a tutti gli effetti cominciare a parlare di VACANZE!\nSogni di passare le vacanze su un’isoletta poco turistica dove puoi fare a meno dell’auto? Fare lunghe camminate in una natura intatta e vivere esperienze semplici ma autentiche? Tutto questo lo puoi fare in Italia!\nE ce lo faremo raccontare per bene dalla nostra Travel Designer Daniela Grasso che ci darà ispirazioni di viaggio su mete italiane ancora poco conosciute.\nCondivideremo il link alla call su Zoom sull’evento di Facebook o ve lo invieremo quando riceveremo la vostra email di conferma. \n\nRicorda di iscriverti e quello di un’amica contattandoci a monza@thepinknetwork.it o compila il form sottostante.\n\n\n  \n\n\n\n\n\n\n\n\n\n\n Il tuo nome (richiesto)\n \n \n La tua email (richiesto)\n \n \n Titolo incontro (richiesto)\n \n \n Scrivi se vieni con qualcuno\n \n \n\n Δ ×
URL:https://thepinknetwork.it/event/viaggiando-a-piedi-nelle-isole-di-italia/
LOCATION:Online\, Italia
CATEGORIES:Altomilanese,Event,Monza,Segrate
ATTACH;FMTTYPE=image/jpeg:https://thepinknetwork.it/wp-content/uploads/2021/03/viaggi-Daniela-Grasso.jpg
END:VEVENT
END:VCALENDAR