BEGIN:VCALENDAR
VERSION:2.0
PRODID:-//The PINK Network - ECPv6.9.1//NONSGML v1.0//EN
CALSCALE:GREGORIAN
METHOD:PUBLISH
X-WR-CALNAME:The PINK Network
X-ORIGINAL-URL:https://thepinknetwork.it
X-WR-CALDESC:Eventi per The PINK Network
REFRESH-INTERVAL;VALUE=DURATION:PT1H
X-Robots-Tag:noindex
X-PUBLISHED-TTL:PT1H
BEGIN:VTIMEZONE
TZID:Europe/Rome
BEGIN:DAYLIGHT
TZOFFSETFROM:+0100
TZOFFSETTO:+0200
TZNAME:CEST
DTSTART:20210328T010000
END:DAYLIGHT
BEGIN:STANDARD
TZOFFSETFROM:+0200
TZOFFSETTO:+0100
TZNAME:CET
DTSTART:20211031T010000
END:STANDARD
END:VTIMEZONE
BEGIN:VEVENT
DTSTART;TZID=Europe/Rome:20210223T140000
DTEND;TZID=Europe/Rome:20210223T153000
DTSTAMP:20260422T090229
CREATED:20210129T134912Z
LAST-MODIFIED:20210129T134912Z
UID:4409-1614088800-1614094200@thepinknetwork.it
SUMMARY:MPN: Le basi della SEO (Search Engine Optimization)
DESCRIPTION:Martedì 23 febbraio ore 14:00 – online\nFatti pubblicità con la SEO!\nChiunque possieda un sito internet\, desideri far conoscere la propria attività attraverso gli strumenti Social o voglia sperimentare la vendita on line di prodotti e servizi\, si pone sempre una domanda: “Come faccio ad essere primo tra i risultati di ricerca di Google\, magari senza investimenti pubblicitari?”. \nCon Elena Ranaboldo entriamo insieme nel mondo del Digital Marketing e scopriamo l’importanza della SEO\, l’arte di saper ottimizzare le informazioni per i motori di ricerca. \nParleremo di contenuti\, parole chiave\, fattori di posizionamento\, algoritmi di ricerca e strategie gratuite che ti permetteranno di aumentare la tua visibilità e far spiccare i tuoi prodotti tra tutti i risultati di Google. \nCondivideremo il link alla call su Zoom sull’evento di Facebook o ve lo invieremo quando riceveremo la vostra email di conferma. \n\nRicorda di iscriverti e quello di un’amica contattandoci a info@thepinknetwork.it o compila il form sottostante.\n\n\n  \n\n\n\n\n\n\n\n\n\n\n Il tuo nome (richiesto)\n \n \n La tua email (richiesto)\n \n \n Titolo incontro (richiesto)\n \n \n Scrivi se vieni con qualcuno\n \n \n\n Δ ×
URL:https://thepinknetwork.it/event/basi-della-seo/
LOCATION:Online\, Italia
CATEGORIES:Altomilanese,Event,Monza,Segrate
ATTACH;FMTTYPE=image/png:https://thepinknetwork.it/wp-content/uploads/2021/01/importanza-SEO.png
END:VEVENT
END:VCALENDAR