BEGIN:VCALENDAR
VERSION:2.0
PRODID:-//The PINK Network - ECPv6.9.1//NONSGML v1.0//EN
CALSCALE:GREGORIAN
METHOD:PUBLISH
X-WR-CALNAME:The PINK Network
X-ORIGINAL-URL:https://thepinknetwork.it
X-WR-CALDESC:Eventi per The PINK Network
REFRESH-INTERVAL;VALUE=DURATION:PT1H
X-Robots-Tag:noindex
X-PUBLISHED-TTL:PT1H
BEGIN:VTIMEZONE
TZID:Europe/Rome
BEGIN:DAYLIGHT
TZOFFSETFROM:+0100
TZOFFSETTO:+0200
TZNAME:CEST
DTSTART:20210328T010000
END:DAYLIGHT
BEGIN:STANDARD
TZOFFSETFROM:+0200
TZOFFSETTO:+0100
TZNAME:CET
DTSTART:20211031T010000
END:STANDARD
END:VTIMEZONE
BEGIN:VEVENT
DTSTART;TZID=Europe/Rome:20210209T130000
DTEND;TZID=Europe/Rome:20210209T143000
DTSTAMP:20260422T090235
CREATED:20210126T091112Z
LAST-MODIFIED:20210208T104116Z
UID:4397-1612875600-1612881000@thepinknetwork.it
SUMMARY:MPN: Buono come il pane! Alla scoperta dei segreti del lievito
DESCRIPTION:Martedì 9 febbraio ore 13:00 – online\nC’è qualcosa che supera in bontà e scatena i migliori ricordi e le più belle emozioni del profumo del pane appena sformato? Difficile!\nEcco perché quando Alice alias Violamirtillo\, ci ha raccontato la sua storia\, abbiamo pensato che fosse obbligatorio condividerla tra pinkers \nLa passione di Alice Chiara nasce dal profumo del lievito\, per caso.\nInizia con l’istinto a cui poi\, negli anni\, affianca pratica e teoria.\nEd è così che ha inizio la sua avventura\, che si trasforma in lavoro\, nel mondo dei lievitati.\nLe piace insegnare\, con leggerezza\, perché solo divertendosi si può imparare davvero. L’amore per ciò che facciamo ha senso solo quando è condiviso.\nNon potendo più tenere corsi in presenza\, negli ultimi mesi si è reinventata ed ha cominciato a tenere corsi online di panificazione\, direttamente dalla sua cucina.\n\nE questo è solo l’inizio del racconto \nCondivideremo il link alla call su Zoom sull’evento di Facebook o ve lo invieremo quando riceveremo la vostra email di conferma. \n\nRicorda di iscriverti e quello di un’amica contattandoci a monza@thepinknetwork.it o compila il form sottostante.\n\n\n  \n\n\n\n\n\n\n\n\n\n\n Il tuo nome (richiesto)\n \n \n La tua email (richiesto)\n \n \n Titolo incontro (richiesto)\n \n \n Scrivi se vieni con qualcuno\n \n \n\n Δ ×
URL:https://thepinknetwork.it/event/buono-come-il-pane/
LOCATION:Online\, Italia
CATEGORIES:Altomilanese,Event,Monza,Segrate
ATTACH;FMTTYPE=image/png:https://thepinknetwork.it/wp-content/uploads/2021/01/violamirtillo.png
END:VEVENT
END:VCALENDAR