BEGIN:VCALENDAR
VERSION:2.0
PRODID:-//The PINK Network - ECPv6.9.1//NONSGML v1.0//EN
CALSCALE:GREGORIAN
METHOD:PUBLISH
X-ORIGINAL-URL:https://thepinknetwork.it
X-WR-CALDESC:Eventi per The PINK Network
REFRESH-INTERVAL;VALUE=DURATION:PT1H
X-Robots-Tag:noindex
X-PUBLISHED-TTL:PT1H
BEGIN:VTIMEZONE
TZID:Europe/Rome
BEGIN:DAYLIGHT
TZOFFSETFROM:+0100
TZOFFSETTO:+0200
TZNAME:CEST
DTSTART:20210328T010000
END:DAYLIGHT
BEGIN:STANDARD
TZOFFSETFROM:+0200
TZOFFSETTO:+0100
TZNAME:CET
DTSTART:20211031T010000
END:STANDARD
END:VTIMEZONE
BEGIN:VEVENT
DTSTART;TZID=Europe/Rome:20210202T130000
DTEND;TZID=Europe/Rome:20210202T143000
DTSTAMP:20260422T090345
CREATED:20210126T090525Z
LAST-MODIFIED:20210208T104127Z
UID:4394-1612270800-1612276200@thepinknetwork.it
SUMMARY:MPN: Come stilare un preventivo
DESCRIPTION:Martedì 2 febbraio ore 13:00 – online\nQuesto sarà il primo incontro de “I fondamentali di Barbara”!\nLi abbiamo chiamati così perché si tratta di quelle basi da cui non si può prescindere ma che troppo spesso sottovalutiamo.\nQuindi abbiamo chiamato la super efficiente Barbara Busto di Delegando – Più valore al tuo tempo e le abbiamo chiesto di “illuminarci”  \nIl preventivo viene spesso considerato una semplice pratica burocratica\, il “pezzo di carta” che stabilisce quanto il cliente pagherà per il tuo lavoro o per un prodotto.\nUn preventivo ben fatto\, invece\, può essere l’elemento determinante per la scelta del cliente oltre che un utilissimo mezzo per evitare problemi e incomprensioni.\nScopriamo insieme perché! \nCondivideremo il link alla call su Zoom sull’evento di Facebook o ve lo invieremo quando riceveremo la vostra email di conferma. \n\nRicorda di iscriverti e quello di un’amica contattandoci a monza@thepinknetwork.it o compila il form sottostante.\n\n\n  \n\n\n\n\n\n\n\n\n\n\n Il tuo nome (richiesto)\n \n \n La tua email (richiesto)\n \n \n Titolo incontro (richiesto)\n \n \n Scrivi se vieni con qualcuno\n \n \n\n Δ ×
URL:https://thepinknetwork.it/event/come-stilare-un-preventivo/
LOCATION:Online\, Italia
CATEGORIES:Altomilanese,Event,Monza,Segrate
ATTACH;FMTTYPE=image/png:https://thepinknetwork.it/wp-content/uploads/2021/01/preventivo.png
END:VEVENT
END:VCALENDAR