BEGIN:VCALENDAR
VERSION:2.0
PRODID:-//The PINK Network - ECPv6.9.1//NONSGML v1.0//EN
CALSCALE:GREGORIAN
METHOD:PUBLISH
X-ORIGINAL-URL:https://thepinknetwork.it
X-WR-CALDESC:Eventi per The PINK Network
REFRESH-INTERVAL;VALUE=DURATION:PT1H
X-Robots-Tag:noindex
X-PUBLISHED-TTL:PT1H
BEGIN:VTIMEZONE
TZID:Europe/Rome
BEGIN:DAYLIGHT
TZOFFSETFROM:+0100
TZOFFSETTO:+0200
TZNAME:CEST
DTSTART:20200329T010000
END:DAYLIGHT
BEGIN:STANDARD
TZOFFSETFROM:+0200
TZOFFSETTO:+0100
TZNAME:CET
DTSTART:20201025T010000
END:STANDARD
END:VTIMEZONE
BEGIN:VEVENT
DTSTART;TZID=Europe/Rome:20201203T130000
DTEND;TZID=Europe/Rome:20201203T143000
DTSTAMP:20260422T123549
CREATED:20201127T173048Z
LAST-MODIFIED:20201127T175134Z
UID:4384-1607000400-1607005800@thepinknetwork.it
SUMMARY:MPN: Personal branding Canvas - progettiamo il nostro 2021
DESCRIPTION:Giovedì 3 dicembre ore 13:00 – online\nPassiamo all’azione e pianifichiamo il nostro 2021!\nL’incontro sarà un momento pratico e interattivo dove ognuna di noi compilerà il proprio Persona Branding Canvas.\nScaricate e stampate il toolkit qui https://bigname.it/personal-branding-canvas/\nPreparate post-it e pennarelli. \nCompileremo e ci confronteremo tutte assieme\, in modo da raccogliere feedback e spunti per migliorare il nostro Canvas anche dopo l’incontro. \nCondivideremo qui sull’evento il link alla call su Zoom\, se non l’avete ancora scaricato fatelo 🙂\nhttps://www.zoom.us/ \nPotete usarlo da PC\, smartphone e tablet \n\nRicorda di iscriverti e quello di un’amica contattandoci a monza@thepinknetwork.it o compila il form sottostante.\n\n\n  \n\n\n\n\n\n\n\n\n\n\n Il tuo nome (richiesto)\n \n \n La tua email (richiesto)\n \n \n Titolo incontro (richiesto)\n \n \n Scrivi se vieni con qualcuno\n \n \n\n Δ ×
URL:https://thepinknetwork.it/event/mpn-personal-branding-canvas-progettiamo-il-nostro-2021/
LOCATION:Online\, Italia
CATEGORIES:Monza
ATTACH;FMTTYPE=image/jpeg:https://thepinknetwork.it/wp-content/uploads/2020/11/TPN-copertina-evento-FB.jpg
END:VEVENT
END:VCALENDAR