BEGIN:VCALENDAR
VERSION:2.0
PRODID:-//The PINK Network - ECPv6.9.1//NONSGML v1.0//EN
CALSCALE:GREGORIAN
METHOD:PUBLISH
X-ORIGINAL-URL:https://thepinknetwork.it
X-WR-CALDESC:Eventi per The PINK Network
REFRESH-INTERVAL;VALUE=DURATION:PT1H
X-Robots-Tag:noindex
X-PUBLISHED-TTL:PT1H
BEGIN:VTIMEZONE
TZID:Europe/Rome
BEGIN:DAYLIGHT
TZOFFSETFROM:+0100
TZOFFSETTO:+0200
TZNAME:CEST
DTSTART:20200329T010000
END:DAYLIGHT
BEGIN:STANDARD
TZOFFSETFROM:+0200
TZOFFSETTO:+0100
TZNAME:CET
DTSTART:20201025T010000
END:STANDARD
END:VTIMEZONE
BEGIN:VEVENT
DTSTART;TZID=Europe/Rome:20201029T180000
DTEND;TZID=Europe/Rome:20201029T193000
DTSTAMP:20260422T135825
CREATED:20201015T133831Z
LAST-MODIFIED:20201015T133831Z
UID:4365-1603994400-1603999800@thepinknetwork.it
SUMMARY:MPN: Invictus: strumenti di self-empowerment
DESCRIPTION:Giovedì 29 ottobre ore 18:00 – online\nTutti temiamo e desideriamo le stesse cose: vogliamo essere visti e raggiungere la felicità. Green Hermit ti invita a un workshop interattivo dove assaporare la ricerca di te stesso. Sei pronta ad andare oltre la diversita’ e l’esclusione? Ti offriremo strumenti utili da portare nel tuo quotidiano e un modo nuovo di guardare te stessa e il mondo che ti circonda \nInvita una o più amiche a partecipare\, ma ricorda siamo aperti anche agli uomini\, pertanto se volete invitare mariti\, fidanzati\, amici\, colleghi o amanti\, saranno i benvenuti. \nDress code: rossetto 🙂 (per le donne si intende) \nCondivideremo qui sull’evento il link alla call su Zoom\, se non l’avete ancora scaricato fatelo 🙂\nhttps://www.zoom.us/ \nPotete usarlo da PC\, smartphone e tablet \n\nRicorda di iscriverti e quello di un’amica contattandoci a monza@thepinknetwork.it o compila il form sottostante.\n\n\n  \n\n\n\n\n\n\n\n\n\n\n Il tuo nome (richiesto)\n \n \n La tua email (richiesto)\n \n \n Titolo incontro (richiesto)\n \n \n Scrivi se vieni con qualcuno\n \n \n\n Δ ×
URL:https://thepinknetwork.it/event/mpn-invictus-strumenti-di-self-empowerment/
LOCATION:Online\, Italia
CATEGORIES:Monza
ATTACH;FMTTYPE=image/png:https://thepinknetwork.it/wp-content/uploads/2020/10/TPN-copertina-evento-FB-1.png
END:VEVENT
END:VCALENDAR