BEGIN:VCALENDAR
VERSION:2.0
PRODID:-//The PINK Network - ECPv6.9.1//NONSGML v1.0//EN
CALSCALE:GREGORIAN
METHOD:PUBLISH
X-ORIGINAL-URL:https://thepinknetwork.it
X-WR-CALDESC:Eventi per The PINK Network
REFRESH-INTERVAL;VALUE=DURATION:PT1H
X-Robots-Tag:noindex
X-PUBLISHED-TTL:PT1H
BEGIN:VTIMEZONE
TZID:Europe/Rome
BEGIN:DAYLIGHT
TZOFFSETFROM:+0100
TZOFFSETTO:+0200
TZNAME:CEST
DTSTART:20200329T010000
END:DAYLIGHT
BEGIN:STANDARD
TZOFFSETFROM:+0200
TZOFFSETTO:+0100
TZNAME:CET
DTSTART:20201025T010000
END:STANDARD
END:VTIMEZONE
BEGIN:VEVENT
DTSTART;TZID=Europe/Rome:20201021T180000
DTEND;TZID=Europe/Rome:20201021T193000
DTSTAMP:20260422T151853
CREATED:20201014T131302Z
LAST-MODIFIED:20201014T131302Z
UID:4360-1603303200-1603308600@thepinknetwork.it
SUMMARY:MPN: Postazione e postura alla scrivania
DESCRIPTION:Mercoledì 21 ottobre ore 18:00 – online\nEsiste davvero la postura ideale per non avere dolori dopo aver lavorato 8 ore alla scrivania? NO!\nMa esiste un modo per vivere serenamente e senza dolori la nostra giornata al PC.\nVediamolo con la nostra Delfini Federica – Massofisioterapia Riflessologia Plantare \nInvita una o più amiche a partecipare\, ma ricorda siamo aperti anche agli uomini\, pertanto se volete invitare mariti\, fidanzati\, amici\, colleghi o amanti\, saranno i benvenuti. \nDress code: rossetto 🙂 (per le donne si intende) \nCondivideremo qui sull’evento il link alla call su Zoom\, se non l’avete ancora scaricato fatelo 🙂\nhttps://www.zoom.us/ \nPotete usarlo da PC\, smartphone e tablet \n\nRicorda di iscriverti e quello di un’amica contattandoci a monza@thepinknetwork.it o compila il form sottostante.\n\n\n  \n\n\n\n\n\n\n\n\n\n\n Il tuo nome (richiesto)\n \n \n La tua email (richiesto)\n \n \n Titolo incontro (richiesto)\n \n \n Scrivi se vieni con qualcuno\n \n \n\n Δ ×
URL:https://thepinknetwork.it/event/mpn-postazione-e-postura-alla-scrivania/
LOCATION:Online\, Italia
CATEGORIES:Monza
ATTACH;FMTTYPE=image/png:https://thepinknetwork.it/wp-content/uploads/2020/10/TPN-copertina-evento-FB.png
END:VEVENT
END:VCALENDAR