BEGIN:VCALENDAR
VERSION:2.0
PRODID:-//The PINK Network - ECPv6.9.1//NONSGML v1.0//EN
CALSCALE:GREGORIAN
METHOD:PUBLISH
X-ORIGINAL-URL:https://thepinknetwork.it
X-WR-CALDESC:Eventi per The PINK Network
REFRESH-INTERVAL;VALUE=DURATION:PT1H
X-Robots-Tag:noindex
X-PUBLISHED-TTL:PT1H
BEGIN:VTIMEZONE
TZID:Europe/Rome
BEGIN:DAYLIGHT
TZOFFSETFROM:+0100
TZOFFSETTO:+0200
TZNAME:CEST
DTSTART:20190331T010000
END:DAYLIGHT
BEGIN:STANDARD
TZOFFSETFROM:+0200
TZOFFSETTO:+0100
TZNAME:CET
DTSTART:20191027T010000
END:STANDARD
END:VTIMEZONE
BEGIN:VEVENT
DTSTART;TZID=Europe/Rome:20191127T100000
DTEND;TZID=Europe/Rome:20191127T130000
DTSTAMP:20260423T081841
CREATED:20200219T150541Z
LAST-MODIFIED:20200219T170508Z
UID:3910-1574848800-1574859600@thepinknetwork.it
SUMMARY:Segrate: Instagram per piccoli biz
DESCRIPTION:27 novembre 2019 – h 10:00\nI 5 errori da evitare per avere un profilo che funziona.\nInstagram è un canale straordinario di visibilità per il tuo brand. \nMa ha delle regole ben precise da seguire\, ed il famoso algoritmo che determina la visibilità dei tuoi post va conosciuto e cavalcato. \nAffronteremo i 5 errori che da soli rendono vani i tuoi sforzi per diffondere il tuo brand su questo network\, e i suggerimenti per iniziare a migliorare la tua presenza online. \nDopo il workshop come sempre ci sarà modo di fare networking tra le partecipanti.\nPorta quindi i biglietti da visita con te e preparati per il tuo speech di presentazione. \nDove siamo\nSala Mattei\nCentro Civico Giuseppe Verdi\nVia XXV Aprile \n– – – – – – – –– – – –– – – –– – – –– – – –– – – –– – – –– – – –– – – –– – – \nCome sempre lo scopo della riunione è la collaborazione e la condivisione. \nSe hai un problema esponilo al gruppo\, potrai ricevere dei consigli.\nHai un progetto in testa e ti senti arenata\, forse parlarne ti aiuterà a schiarirti le idee.\nCerchi una partner per portare avanti la tua attività\, tra noi ci potrebbe essere. \nRicorda di prenotare il tuo posto e quello di un’amica contattandoci a segrate@thepinknetwork.it o compila il form sottostante.\n\n\n  \n\n\n\n\n\n\n\n\n\n\n Il tuo nome (richiesto)\n \n \n La tua email (richiesto)\n \n \n Titolo incontro (richiesto)\n \n \n Scrivi se vieni con qualcuno\n \n \n\n Δ ×
URL:https://thepinknetwork.it/event/segrate-instagram-per-piccoli-biz/
LOCATION:Sala Mattei – Centro Civico Giuseppe Verdi \, Via XXV Aprile\, Segrate\, mi\, 20090\, Italia
CATEGORIES:Segrate,Workshop
ATTACH;FMTTYPE=image/jpeg:https://thepinknetwork.it/wp-content/uploads/2019/09/70317754_1021965371528640_1894075127222501376_n.jpg
END:VEVENT
END:VCALENDAR