BEGIN:VCALENDAR
VERSION:2.0
PRODID:-//The PINK Network - ECPv6.9.1//NONSGML v1.0//EN
CALSCALE:GREGORIAN
METHOD:PUBLISH
X-WR-CALNAME:The PINK Network
X-ORIGINAL-URL:https://thepinknetwork.it
X-WR-CALDESC:Eventi per The PINK Network
REFRESH-INTERVAL;VALUE=DURATION:PT1H
X-Robots-Tag:noindex
X-PUBLISHED-TTL:PT1H
BEGIN:VTIMEZONE
TZID:Europe/Rome
BEGIN:DAYLIGHT
TZOFFSETFROM:+0100
TZOFFSETTO:+0200
TZNAME:CEST
DTSTART:20190331T010000
END:DAYLIGHT
BEGIN:STANDARD
TZOFFSETFROM:+0200
TZOFFSETTO:+0100
TZNAME:CET
DTSTART:20191027T010000
END:STANDARD
END:VTIMEZONE
BEGIN:VEVENT
DTSTART;TZID=Europe/Rome:20191118T133000
DTEND;TZID=Europe/Rome:20191118T153000
DTSTAMP:20260423T110432
CREATED:20200219T170440Z
LAST-MODIFIED:20200220T142807Z
UID:3953-1574083800-1574091000@thepinknetwork.it
SUMMARY:MPN work: Canva crea dipendenza!
DESCRIPTION:18 novembre 2019 – h 13:30\nScopriamolo insieme a Barbara Avogadro!\nQuando si lavora online è fondamentale dotarsi di una serie di tool e risorse\, gratuite o a pagamento\, per essere operativo ovunque tu sia\, basta avere un pc o dispositivo mobile e una connessione ad internet decente.\nUno di questi tool è senza dubbio Canva\, uno strumento che consente di creare bellissimi visual in modo semplice e veloce. Essendo un tool nato per lavorare sui visual e sulle immagini\, è particolarmente indicato per realizzare contenuti per i social network\, poster\, cover di ebook\, copertine di magazine\, infografiche\, curriculum\, wallpaper\, ma anche materiale pubblicitario. \nDove siamo\nCentro Civico San Carlo – San Giuseppe\,\nVia Silva 26\, 20900 Monza \n– – – – – – – –– – – –– – – –– – – –– – – –– – – –– – – –– – – –– – – –– – – \nCome sempre lo scopo della riunione è la collaborazione e la condivisione. \nSe hai un problema esponilo al gruppo\, potrai ricevere dei consigli.\nHai un progetto in testa e ti senti arenata\, forse parlarne ti aiuterà a schiarirti le idee.\nCerchi una partner per portare avanti la tua attività\, tra noi ci potrebbe essere. \nRicorda di prenotare il tuo posto e quello di un’amica contattandoci a monza@thepinknetwork.it o compila il form sottostante.\n\n\n  \n\n\n\n\n\n\n\n\n\n\n Il tuo nome (richiesto)\n \n \n La tua email (richiesto)\n \n \n Titolo incontro (richiesto)\n \n \n Scrivi se vieni con qualcuno\n \n \n\n Δ ×
URL:https://thepinknetwork.it/event/mpn-work-canva-crea-dipendenza/
LOCATION:Centro Civico San Carlo – San Giuseppe\, Via Silva 26\, Monza\, 20900\, Italia
CATEGORIES:Monza,Workshop
ATTACH;FMTTYPE=image/jpeg:https://thepinknetwork.it/wp-content/uploads/2019/09/69870584_1027357094322801_2958781911989747712_o.jpg
END:VEVENT
END:VCALENDAR