BEGIN:VCALENDAR
VERSION:2.0
PRODID:-//The PINK Network - ECPv6.9.1//NONSGML v1.0//EN
CALSCALE:GREGORIAN
METHOD:PUBLISH
X-ORIGINAL-URL:https://thepinknetwork.it
X-WR-CALDESC:Eventi per The PINK Network
REFRESH-INTERVAL;VALUE=DURATION:PT1H
X-Robots-Tag:noindex
X-PUBLISHED-TTL:PT1H
BEGIN:VTIMEZONE
TZID:Europe/Rome
BEGIN:DAYLIGHT
TZOFFSETFROM:+0100
TZOFFSETTO:+0200
TZNAME:CEST
DTSTART:20190331T010000
END:DAYLIGHT
BEGIN:STANDARD
TZOFFSETFROM:+0200
TZOFFSETTO:+0100
TZNAME:CET
DTSTART:20191027T010000
END:STANDARD
END:VTIMEZONE
BEGIN:VEVENT
DTSTART;TZID=Europe/Rome:20191106T133000
DTEND;TZID=Europe/Rome:20191106T153000
DTSTAMP:20260423T093805
CREATED:20200220T144116Z
LAST-MODIFIED:20200220T144116Z
UID:3966-1573047000-1573054200@thepinknetwork.it
SUMMARY:MPN work: l’importanza di avere un sito internet che funzioni
DESCRIPTION:06 novembre 2019 – h 13:30\nAndremo alla scoperta delle 7 chiavi per avere successo sul web\, gli aspetti importanti della comunicazione web\, quello che non deve mancare su un sito e cosa le aziende e i professionisti devono fare per essere visibili prima dei concorrenti on line. \nDove siamo\nCentro Civico San Carlo – San Giuseppe\,\nVia Silva 26\, 20900 Monza \n– – – – – – – –– – – –– – – –– – – –– – – –– – – –– – – –– – – –– – – –– – – \nCome sempre lo scopo della riunione è la collaborazione e la condivisione. \nSe hai un problema esponilo al gruppo\, potrai ricevere dei consigli.\nHai un progetto in testa e ti senti arenata\, forse parlarne ti aiuterà a schiarirti le idee.\nCerchi una partner per portare avanti la tua attività\, tra noi ci potrebbe essere. \nRicorda di prenotare il tuo posto e quello di un’amica contattandoci a monza@thepinknetwork.it o compila il form sottostante.\n\n\n  \n\n\n\n\n\n\n\n\n\n\n Il tuo nome (richiesto)\n \n \n La tua email (richiesto)\n \n \n Titolo incontro (richiesto)\n \n \n Scrivi se vieni con qualcuno\n \n \n\n Δ ×
URL:https://thepinknetwork.it/event/mpn-work-limportanza-di-avere-un-sito-internet-che-funzioni/
LOCATION:Centro Civico San Carlo – San Giuseppe\, Via Silva 26\, Monza\, 20900\, Italia
CATEGORIES:Monza,Workshop
ATTACH;FMTTYPE=image/png:https://thepinknetwork.it/wp-content/uploads/2019/09/thePINKriunione.png
END:VEVENT
END:VCALENDAR