BEGIN:VCALENDAR
VERSION:2.0
PRODID:-//The PINK Network - ECPv6.9.1//NONSGML v1.0//EN
CALSCALE:GREGORIAN
METHOD:PUBLISH
X-ORIGINAL-URL:https://thepinknetwork.it
X-WR-CALDESC:Eventi per The PINK Network
REFRESH-INTERVAL;VALUE=DURATION:PT1H
X-Robots-Tag:noindex
X-PUBLISHED-TTL:PT1H
BEGIN:VTIMEZONE
TZID:Europe/Rome
BEGIN:DAYLIGHT
TZOFFSETFROM:+0100
TZOFFSETTO:+0200
TZNAME:CEST
DTSTART:20190331T010000
END:DAYLIGHT
BEGIN:STANDARD
TZOFFSETFROM:+0200
TZOFFSETTO:+0100
TZNAME:CET
DTSTART:20191027T010000
END:STANDARD
END:VTIMEZONE
BEGIN:VEVENT
DTSTART;TZID=Europe/Rome:20190918T203000
DTEND;TZID=Europe/Rome:20190918T223000
DTSTAMP:20260423T131746
CREATED:20200219T154344Z
LAST-MODIFIED:20200219T161009Z
UID:3931-1568838600-1568845800@thepinknetwork.it
SUMMARY:Segrate: Presentazione The PINK network
DESCRIPTION:18 settembre 2019 – h 20:30\nAuditorium del Centro Civico Verdi\nSerata di presentazione del progetto The PINK network\, nato nel 2018 dall’associazione APS Easymamma\, è un network tutto in rosa\, di e per donne che abbiano voglia di mettersi o rimettersi in gioco\, che vogliano condividere la propria esperienza e la propria professionalità\, per far nascere nuovi business e nuove connessioni\, per fare brainstorming e far frullare le idee… \nThe PINK Week end e The PINK Market sono il risultato concreto di alcune delle collaborazioni nate durante gli incontri del network\, che hanno al momento cadenza bimensile e prevedono un’ora di workshop\, in cui libere professioniste e imprenditrici appartenenti alla rete mettono a turno\, a disposizione delle altre\, la propria esperienza professionale su temi condivisi e\, a seguire\, un’ora di networking tra le pinker’s partecipanti. \nVieni a conoscerci e capire come far parte di questa community femminile che si supporta\, collabora e crea progetti insieme. \nVerrà inoltre presentato il programma dei prossimi incontri dell’autunno\, che prevedono: \n2/10\, ore 10.00 – “Personal You. Esercizi pratici per un personal branding efficace” \n17/10\, ore 13.00 – “Come usare LinkedIn per creare una rete professionale” \n30/10\, ore 10.00 – “Una foto profilo che potenzia il tuo personal branding” \n14/11\, ore 13.00 – “Un sito internet vincente” \n27/11\, ore 10.00 – “Instagram per piccoli biz” \nAppuntamento nella sala auditorium del Centro Civico Verdi Segrate\, alle 20:30. \n– – – – – – – –– – – –– – – –– – – –– – – –– – – –– – – –– – – –– – – –– – – \nCome sempre lo scopo della riunione è la collaborazione e la condivisione. \nSe hai un problema esponilo al gruppo\, potrai ricevere dei consigli.\nHai un progetto in testa e ti senti arenata\, forse parlarne ti aiuterà a schiarirti le idee.\nCerchi una partner per portare avanti la tua attività\, tra noi ci potrebbe essere. \nRicorda di prenotare il tuo posto e quello di un’amica contattandoci a segrate@thepinknetwork.it o compila il form sottostante.\n\n\n  \n\n\n\n\n\n\n\n\n\n\n Il tuo nome (richiesto)\n \n \n La tua email (richiesto)\n \n \n Titolo incontro (richiesto)\n \n \n Scrivi se vieni con qualcuno\n \n \n\n Δ ×
URL:https://thepinknetwork.it/event/segrate-presentazione-the-pink-network/
LOCATION:Sala Mattei – Centro Civico Giuseppe Verdi \, Via XXV Aprile\, Segrate\, mi\, 20090\, Italia
CATEGORIES:Segrate
ATTACH;FMTTYPE=image/jpeg:https://thepinknetwork.it/wp-content/uploads/2019/11/IMG_2385-1-scaled.jpg
END:VEVENT
END:VCALENDAR