BEGIN:VCALENDAR
VERSION:2.0
PRODID:-//The PINK Network - ECPv6.9.1//NONSGML v1.0//EN
CALSCALE:GREGORIAN
METHOD:PUBLISH
X-WR-CALNAME:The PINK Network
X-ORIGINAL-URL:https://thepinknetwork.it
X-WR-CALDESC:Eventi per The PINK Network
REFRESH-INTERVAL;VALUE=DURATION:PT1H
X-Robots-Tag:noindex
X-PUBLISHED-TTL:PT1H
BEGIN:VTIMEZONE
TZID:Europe/Rome
BEGIN:DAYLIGHT
TZOFFSETFROM:+0100
TZOFFSETTO:+0200
TZNAME:CEST
DTSTART:20190331T010000
END:DAYLIGHT
BEGIN:STANDARD
TZOFFSETFROM:+0200
TZOFFSETTO:+0100
TZNAME:CET
DTSTART:20191027T010000
END:STANDARD
END:VTIMEZONE
BEGIN:VEVENT
DTSTART;TZID=Europe/Rome:20190907T090000
DTEND;TZID=Europe/Rome:20190908T190000
DTSTAMP:20260423T142448
CREATED:20200213T172959Z
LAST-MODIFIED:20200219T152516Z
UID:3848-1567846800-1567969200@thepinknetwork.it
SUMMARY:Festa Cittadina Segrate 2019
DESCRIPTION:Dalle 9:30 alle 19:00\nSiamo giunti alla 7° edizione del market.\nEvento organizzato da un gruppo di donne che incontrandosi durante le riunioni di the PINK network\, hanno deciso di collaborare e creare nuove sinergie. \nL’idea è non solo di mostrare prodotti creativi e di qualità\, ma di dare spazio anche alle eccellenze territoriali.\nNon chiamatelo mercatino\, ma un market vero e proprio\, dove l’artigianalità\, la creatività\, il pezzo quasi unico sono gli elementi fondamentali. \nQuesta edizione primaverile ci vede il  7 e 8 settembre alla Festa Cittadina di Segrate \nDalle 09:30 alle 19:o0. \nVieni a fare sarà dello shopping “non banale”.
URL:https://thepinknetwork.it/event/7-e-8-settembre-the-pink-market-festa-cittadina-segrate/
LOCATION:Segrate – Centro Parco\, Via S. Rocco\, Segrate\, Italia
CATEGORIES:The PINK market
ATTACH;FMTTYPE=image/jpeg:https://thepinknetwork.it/wp-content/uploads/2020/02/blur-1850082_1920.jpg
END:VEVENT
END:VCALENDAR