BEGIN:VCALENDAR
VERSION:2.0
PRODID:-//The PINK Network - ECPv6.9.1//NONSGML v1.0//EN
CALSCALE:GREGORIAN
METHOD:PUBLISH
X-ORIGINAL-URL:https://thepinknetwork.it
X-WR-CALDESC:Eventi per The PINK Network
REFRESH-INTERVAL;VALUE=DURATION:PT1H
X-Robots-Tag:noindex
X-PUBLISHED-TTL:PT1H
BEGIN:VTIMEZONE
TZID:Europe/Rome
BEGIN:DAYLIGHT
TZOFFSETFROM:+0100
TZOFFSETTO:+0200
TZNAME:CEST
DTSTART:20190331T010000
END:DAYLIGHT
BEGIN:STANDARD
TZOFFSETFROM:+0200
TZOFFSETTO:+0100
TZNAME:CET
DTSTART:20191027T010000
END:STANDARD
END:VTIMEZONE
BEGIN:VEVENT
DTSTART;TZID=Europe/Rome:20190715T130000
DTEND;TZID=Europe/Rome:20190715T150000
DTSTAMP:20260423T175755
CREATED:20200219T160509Z
LAST-MODIFIED:20200219T160622Z
UID:3934-1563195600-1563202800@thepinknetwork.it
SUMMARY:Segrate - The PINK lunch
DESCRIPTION:15 luglio 2019 – h 13:00\nPranziamo assieme per salutarci prima della pausa estiva. \nL’idea è vederci e fare due chiacchiere in libertà\, parlare dei programmi per l’autunno\, raccontare alle nuove amiche chi siamo e cosa facciamo. \nQuando: lunedì 15 luglio 2019\nAlle: 13:00 \nDove pranziamo? Vota la soluzione:\nA) presso il ristorante Cascina Ovi costo 14 euro (va prenotato)\nB) ognuno si porta la schiscetta da casa e ci mettiamo intorno al tavolo a Spazio Cascina Ovi \nPertanto \n\nMetti partecipo solo se vieni ( mi raccomando che io ti vedo)\nVota dove vuoi pranzare e andremo dove vuole la maggioranza 🙂 Vota qui!\n\n– – – – – – – –– – – –– – – –– – – –– – – –– – – –– – – –– – – –– – – –– – – \nCome sempre lo scopo della riunione è la collaborazione e la condivisione. \nSe hai un problema esponilo al gruppo\, potrai ricevere dei consigli.\nHai un progetto in testa e ti senti arenata\, forse parlarne ti aiuterà a schiarirti le idee.\nCerchi una partner per portare avanti la tua attività\, tra noi ci potrebbe essere. \nRicorda di prenotare il tuo posto e quello di un’amica contattandoci a segrate@thepinknetwork.it o compila il form sottostante.\n\n\n  \n\n\n\n\n\n\n\n\n\n\n Il tuo nome (richiesto)\n \n \n La tua email (richiesto)\n \n \n Titolo incontro (richiesto)\n \n \n Scrivi se vieni con qualcuno\n \n \n\n Δ ×
URL:https://thepinknetwork.it/event/segrate-the-pink-lunch/
LOCATION:Spazio Cascina Ovi\, Via Olgia 13\, Segrate\, 20090\, Italia
CATEGORIES:Segrate
ATTACH;FMTTYPE=image/png:https://thepinknetwork.it/wp-content/uploads/2019/06/thePINKriunione.png
END:VEVENT
END:VCALENDAR