BEGIN:VCALENDAR
VERSION:2.0
PRODID:-//The PINK Network - ECPv6.9.1//NONSGML v1.0//EN
CALSCALE:GREGORIAN
METHOD:PUBLISH
X-ORIGINAL-URL:https://thepinknetwork.it
X-WR-CALDESC:Eventi per The PINK Network
REFRESH-INTERVAL;VALUE=DURATION:PT1H
X-Robots-Tag:noindex
X-PUBLISHED-TTL:PT1H
BEGIN:VTIMEZONE
TZID:Europe/Rome
BEGIN:DAYLIGHT
TZOFFSETFROM:+0100
TZOFFSETTO:+0200
TZNAME:CEST
DTSTART:20190331T010000
END:DAYLIGHT
BEGIN:STANDARD
TZOFFSETFROM:+0200
TZOFFSETTO:+0100
TZNAME:CET
DTSTART:20191027T010000
END:STANDARD
END:VTIMEZONE
BEGIN:VEVENT
DTSTART;TZID=Europe/Rome:20190619T110000
DTEND;TZID=Europe/Rome:20190619T130000
DTSTAMP:20260423T191057
CREATED:20200220T135850Z
LAST-MODIFIED:20200220T135941Z
UID:3958-1560942000-1560949200@thepinknetwork.it
SUMMARY:Altomilanese - Un'alternativa al lavoro usuale
DESCRIPTION:19 giugno – h 11:00\nUn nuovo modello di espressione lavorativa che permetta di esprimersi a tutto tondo\, rispettando il proprio “essere donna”. \ncon Elena Depaoli \nDove siamo\nProgetto Creativo Corsi\nvia Brodolini 6\,\n20010 Pogliano Milanese \n– – – – – – – –– – – –– – – –– – – –– – – –– – – –– – – –– – – –– – – –– – – \nCome sempre lo scopo della riunione è la collaborazione e la condivisione. \nSe hai un problema esponilo al gruppo\, potrai ricevere dei consigli.\nHai un progetto in testa e ti senti arenata\, forse parlarne ti aiuterà a schiarirti le idee.\nCerchi una partner per portare avanti la tua attività\, tra noi ci potrebbe essere. \nRicorda di prenotare il tuo posto e quello di un’amica contattandoci a info@thepinknetwork.it o compila il form sottostante.\n\n\n  \n\n\n\n\n\n\n\n\n\n\n Il tuo nome (richiesto)\n \n \n La tua email (richiesto)\n \n \n Titolo incontro (richiesto)\n \n \n Scrivi se vieni con qualcuno\n \n \n\n Δ ×
URL:https://thepinknetwork.it/event/altomilanese-unalternativa-al-lavoro-usuale/
LOCATION:Progetto Creativo Corsi\, via Brodolini 6\, Pogliano Milanese\, 20010\, Italia
CATEGORIES:Altomilanese,Workshop
ATTACH;FMTTYPE=image/jpeg:https://thepinknetwork.it/wp-content/uploads/2019/04/53236080_892809874444191_1218072224297123840_n.jpg
END:VEVENT
END:VCALENDAR