BEGIN:VCALENDAR
VERSION:2.0
PRODID:-//The PINK Network - ECPv6.9.1//NONSGML v1.0//EN
CALSCALE:GREGORIAN
METHOD:PUBLISH
X-ORIGINAL-URL:https://thepinknetwork.it
X-WR-CALDESC:Eventi per The PINK Network
REFRESH-INTERVAL;VALUE=DURATION:PT1H
X-Robots-Tag:noindex
X-PUBLISHED-TTL:PT1H
BEGIN:VTIMEZONE
TZID:Europe/Rome
BEGIN:DAYLIGHT
TZOFFSETFROM:+0100
TZOFFSETTO:+0200
TZNAME:CEST
DTSTART:20190331T010000
END:DAYLIGHT
BEGIN:STANDARD
TZOFFSETFROM:+0200
TZOFFSETTO:+0100
TZNAME:CET
DTSTART:20191027T010000
END:STANDARD
END:VTIMEZONE
BEGIN:VEVENT
DTSTART;TZID=Europe/Rome:20190516T130000
DTEND;TZID=Europe/Rome:20190516T150000
DTSTAMP:20260423T214537
CREATED:20200220T140838Z
LAST-MODIFIED:20200220T140838Z
UID:3960-1558011600-1558018800@thepinknetwork.it
SUMMARY:Altomilanese - Metti un CRM al centro del tuo business
DESCRIPTION:16 maggio 2019 – h 13:00\nMettere il cliente al centro delle tue attività.\nOrganizzare e svolgere ogni azione intorno a lui in maniera semplice e veloce\, anche in collaborazione con più persone\, interne o esterne alla tua organizzazione. \nGestire le attività di marketing.\nQuanto tempo e fatica potresti risparmiare con uno strumento che ti permette di gestire il business (e non solo il business) in maniera veloce\, efficiente ed organizzata? \nUno strumento con queste funzionalità esiste e si chiama CRM. \nSaperne di più ti sarà veramente utile\, e dopo non vedrai l’ora di iniziare ad usarlo! \ncon Barbara Busto \nDove siamo\nProgetto Creativo Corsi\nvia Brodolini 6\,\n20010 Pogliano Milanese \n– – – – – – – –– – – –– – – –– – – –– – – –– – – –– – – –– – – –– – – –– – – \nCome sempre lo scopo della riunione è la collaborazione e la condivisione. \nSe hai un problema esponilo al gruppo\, potrai ricevere dei consigli.\nHai un progetto in testa e ti senti arenata\, forse parlarne ti aiuterà a schiarirti le idee.\nCerchi una partner per portare avanti la tua attività\, tra noi ci potrebbe essere. \nRicorda di prenotare il tuo posto e quello di un’amica contattandoci a info@thepinknetwork.it o compila il form sottostante.\n\n\n  \n\n\n\n\n\n\n\n\n\n\n Il tuo nome (richiesto)\n \n \n La tua email (richiesto)\n \n \n Titolo incontro (richiesto)\n \n \n Scrivi se vieni con qualcuno\n \n \n\n Δ ×
URL:https://thepinknetwork.it/event/altomilanese-metti-un-crm-al-centro-del-tuo-business/
LOCATION:Progetto Creativo Corsi\, via Brodolini 6\, Pogliano Milanese\, 20010\, Italia
CATEGORIES:Altomilanese,Workshop
ATTACH;FMTTYPE=image/png:https://thepinknetwork.it/wp-content/uploads/2019/04/thePINKriunione-4.png
END:VEVENT
END:VCALENDAR