BEGIN:VCALENDAR
VERSION:2.0
PRODID:-//The PINK Network - ECPv6.9.1//NONSGML v1.0//EN
CALSCALE:GREGORIAN
METHOD:PUBLISH
X-ORIGINAL-URL:https://thepinknetwork.it
X-WR-CALDESC:Eventi per The PINK Network
REFRESH-INTERVAL;VALUE=DURATION:PT1H
X-Robots-Tag:noindex
X-PUBLISHED-TTL:PT1H
BEGIN:VTIMEZONE
TZID:Europe/Rome
BEGIN:DAYLIGHT
TZOFFSETFROM:+0100
TZOFFSETTO:+0200
TZNAME:CEST
DTSTART:20190331T010000
END:DAYLIGHT
BEGIN:STANDARD
TZOFFSETFROM:+0200
TZOFFSETTO:+0100
TZNAME:CET
DTSTART:20191027T010000
END:STANDARD
END:VTIMEZONE
BEGIN:VEVENT
DTSTART;TZID=Europe/Rome:20190415T133000
DTEND;TZID=Europe/Rome:20190415T153000
DTSTAMP:20260423T214558
CREATED:20200219T163509Z
LAST-MODIFIED:20200219T170556Z
UID:3947-1555335000-1555342200@thepinknetwork.it
SUMMARY:Segrate - PinkedIn: segreti e tecniche per il proprio profilo professionale
DESCRIPTION:15 aprile 2019 – h 13:30\nUn incontro per svelare i segreti e le tecniche utili per realizzare un profilo attrattivo e convincente su LinkedIn.\nPer chi è pensato? Se il tuo profilo non ti rappresenta e desideri migliorare autorevolezza e visibilità.\nCome? Imparerai a “raccontare” la tua vita lavorativa in maniera persuasiva ed accattivante attraverso l’utilizzo di tecniche di Storytelling. \nCon Susanna Ricci \nDove siamo\nSpazio Cascina Ovi\nVia Olgia 13\n20090 Segrate \n– – – – – – – –– – – –– – – –– – – –– – – –– – – –– – – –– – – –– – – –– – – \nCome sempre lo scopo della riunione è la collaborazione e la condivisione. \nSe hai un problema esponilo al gruppo\, potrai ricevere dei consigli.\nHai un progetto in testa e ti senti arenata\, forse parlarne ti aiuterà a schiarirti le idee.\nCerchi una partner per portare avanti la tua attività\, tra noi ci potrebbe essere. \nRicorda di prenotare il tuo posto e quello di un’amica contattandoci a segrate@thepinknetwork.it o compila il form sottostante.\n\n\n  \n\n\n\n\n\n\n\n\n\n\n Il tuo nome (richiesto)\n \n \n La tua email (richiesto)\n \n \n Titolo incontro (richiesto)\n \n \n Scrivi se vieni con qualcuno\n \n \n\n Δ ×
URL:https://thepinknetwork.it/event/segrate-pinkedin-segreti-e-tecniche-per-il-proprio-profilo-professionale/
LOCATION:Spazio Cascina Ovi\, Via Olgia 13\, Segrate\, 20090\, Italia
CATEGORIES:Segrate,Workshop
ATTACH;FMTTYPE=image/png:https://thepinknetwork.it/wp-content/uploads/2019/04/thePINKriunione.png
END:VEVENT
END:VCALENDAR