BEGIN:VCALENDAR
VERSION:2.0
PRODID:-//The PINK Network - ECPv6.9.1//NONSGML v1.0//EN
CALSCALE:GREGORIAN
METHOD:PUBLISH
X-ORIGINAL-URL:https://thepinknetwork.it
X-WR-CALDESC:Eventi per The PINK Network
REFRESH-INTERVAL;VALUE=DURATION:PT1H
X-Robots-Tag:noindex
X-PUBLISHED-TTL:PT1H
BEGIN:VTIMEZONE
TZID:Europe/Rome
BEGIN:DAYLIGHT
TZOFFSETFROM:+0100
TZOFFSETTO:+0200
TZNAME:CEST
DTSTART:20190331T010000
END:DAYLIGHT
BEGIN:STANDARD
TZOFFSETFROM:+0200
TZOFFSETTO:+0100
TZNAME:CET
DTSTART:20191027T010000
END:STANDARD
END:VTIMEZONE
BEGIN:VEVENT
DTSTART;TZID=Europe/Rome:20190402T133000
DTEND;TZID=Europe/Rome:20190402T153000
DTSTAMP:20260423T225540
CREATED:20200225T103203Z
LAST-MODIFIED:20200225T103203Z
UID:4087-1554211800-1554219000@thepinknetwork.it
SUMMARY:MPN care - Truffe agli anziani\, i consigli dei carabinieri
DESCRIPTION:02 aprile 2019 – h 13:30\nNuovo incontro del ciclo “Assistenza personale domiciliare: dal badare al prendersi cura dell’anziano e del diversamente abile”\, organizzato da Croce Rossa Italiana – Comitato di Monza. \nCon noi l’arma dei Carabinieri per parlare di truffe agli anziani e di prevenzione delle stesse. \nL’incontro è gratuito ma è necessaria la prenotazione da effettuarsi scrivendo a didattica@crimonza.org. \nAl corso sono ammesse massimo 25 persone.
URL:https://thepinknetwork.it/event/mpn-care-truffe-agli-anziani-i-consigli-dei-carabinieri/
LOCATION:Centro Civico San Fruttuoso\, Via Tazzoli 29\, Monza\, 20900\, Italia
CATEGORIES:Event,Monza
ATTACH;FMTTYPE=image/jpeg:https://thepinknetwork.it/wp-content/uploads/2019/04/55698498_906299839761861_3939731641869533184_o.jpg
END:VEVENT
END:VCALENDAR